BEGIN:VCALENDAR
VERSION:2.0
PRODID:-//ICPAK - ECPv6.5.0//NONSGML v1.0//EN
CALSCALE:GREGORIAN
METHOD:PUBLISH
X-WR-CALNAME:ICPAK
X-ORIGINAL-URL:https://www.icpak.com
X-WR-CALDESC:Events for ICPAK
REFRESH-INTERVAL;VALUE=DURATION:PT1H
X-Robots-Tag:noindex
X-PUBLISHED-TTL:PT1H
BEGIN:VTIMEZONE
TZID:Europe/Moscow
BEGIN:STANDARD
TZOFFSETFROM:+0300
TZOFFSETTO:+0300
TZNAME:MSK
DTSTART:20260101T000000
END:STANDARD
END:VTIMEZONE
BEGIN:VEVENT
DTSTART;TZID=Europe/Moscow:20260608T090000
DTEND;TZID=Europe/Moscow:20260612T153000
DTSTAMP:20260423T032103
CREATED:20260102T190000Z
LAST-MODIFIED:20260203T083802Z
UID:10003305-1780909200-1781278200@www.icpak.com
SUMMARY:THE TAXATION MASTERCLASS 2026 EDITION 2 (mandatory training)
DESCRIPTION:INSTITUTE OF CERTIFIED PUBLIC ACCOUNTANTS OF KENYA\n(Established under Accountants Act\, Laws of Kenya) \nTHE TAXATION MASTERCLASS 2026 EDITION 2\nTheme: \nDate: 8th-12th June 2026\nTime: 09.00am-03.30pm\nVenue: Sarova Whitesands Beach Resort & Spa\, Mombasa \nThis is one of the mandatory trainings for Practicing Certificate consideration \nOVERVIEW \nTARGET AUDIENCE \nICPAK Members \,Accountants in both private and public sector \, Chief Finance Officers\, Finance Directors and Managers\, Private and Public Tax Practitioners\, Public Sector Accountants\, Transaction Advisors\, Engagement Partners and Key Audit staff\, Banking\, Financial services sector Accountants\, Internal Auditors\, Professionals working in Government and private sectors\, Accountants in Academia\, current and potential members of ICPAK\, members of other professional associations. \nYOUR FINANCIAL COMMITMENT \nThe seminar charges are Ksh 95\,000 per delegate for both members and non-members. \nContinuous Professional Development Units: \nMembers of ICPAK and other reciprocating professional bodies will earn 20 CPD points upon successfully attending the Master Class. \nOnline Booking: \nWe call on all participants to note that booking is available only online at www.icpak.com/events and will close two hours before the training session.  Delegates are reminded to note that online booking for training sessions is MANDATORY.   This is available either online at www.icpak.com/events \, you can also reach us through marketing@icpak.com \nNational Industrial Training Authority (NITA) Reimbursement: \nThe Institute is registered as a trainer with National Industrial Training Authority. The Institute’s registration number is DIT/TRN/47. Participants who are registered levy contributors should apply to NITA for reimbursement of their fees. Please note that this is applicable for Kenyan citizens only and subject to NITA regulations. Remember that to qualify you should apply to NITA for approval prior to the date of the conference. Further details can be obtained from their website (www.nita.go.ke) \nFurther requests can be channeled to us via telephone calls on +254 719 074 100\,  or via email to marketing@icpak.com. \nWe encourage members to regularly visit our website https://www.icpak.com for updates.
URL:https://www.icpak.com/event/the-taxation-masterclass-2026-edition-2-mandatory-training/
LOCATION:Sarova Whitesands Beach Resort and Spa\, Mombasa\, Kenya
CATEGORIES:Local Seminars,Mandatory Trainings
GEO:-4.0434771;39.6682065
END:VEVENT
BEGIN:VEVENT
DTSTART;TZID=Europe/Moscow:20260612T090000
DTEND;TZID=Europe/Moscow:20260612T113000
DTSTAMP:20260423T032103
CREATED:20260412T190557Z
LAST-MODIFIED:20260412T191447Z
UID:10003427-1781254800-1781263800@www.icpak.com
SUMMARY:Budget Review and Analysis Seminar (physical option)
DESCRIPTION:THE INSTITUTE OF CERTIFIED PUBLIC ACCOUNTANTS OF KENYA\n(Established under the Accountants Act\, Laws of Kenya) \nBudget Review & Analysis Seminar (physical option)\nDate: 12th June 2026\nTime: 09.00-11.30am\nVenue: ICPAK Auditorium\, CPA Centre \nOverview \nTarget Audience \nAudit and tax practitioners\, Personnel handling tax issues in organizations\, Representatives from KRA\, Taxpayers’ association(s)\, Accountants\, Finance Professionals\, Auditors\, Chief Finance officers\, Academia. \nContinuous Professional Development Units (CPD Units): \nMembers of ICPAK and reciprocating professional bodies will be awarded 5 CPD Units upon successfully attending the session. \nCost: \n\n\n\nCategory\nPhysical\nVirtual\n\n\nAssociates\n Kes.5\,500.00 – per delegate\nKes. 5\,000.00 – per delegate\n\n\nMembers\n  Kes.5\,500.00 – per delegate\n Kes. 5\,000.00 – per delegate\n\n\nNon-members\n  Kes.5\,500.00 per delegate\n Kes.5\,000.00 – per delegate\n\n\n\nOnline Booking: \nWe call on Seminar participants to note that booking is available only online at www.icpak.com/events and will close two hours before the training session.  Delegates are reminded to note that online booking for training sessions is mandatory.   This is available either online at www.icpak.com/events  or on the ICPAK Live – A smart phone-based application that is available from google store. \nNational Industrial Training Authority (NITA) Reimbursement: \nThe Institute is registered as a trainer with the National Industrial Training Authority. The Institute’s registration number is DIT/TRN/47. Participants who are registered levy contributors should apply to NITA for reimbursement of their fees. Please note that this is applicable for Kenyan citizens only and subject to NITA regulations. Remember that to qualify you should apply to NITA for approval prior to the date of the conference. Further details can be obtained from their website (www.nita.go.ke) \nFurther requests can be channeled to us via telephone calls on +254 719 074 000\, or via email to marketing@icpak.com
URL:https://www.icpak.com/event/budget-review-and-analysis-seminar-physical-option/
LOCATION:ICPAK Auditorium\, CPA Centre\, Nairobi
CATEGORIES:Local Seminars
END:VEVENT
BEGIN:VEVENT
DTSTART;TZID=Europe/Moscow:20260612T090000
DTEND;TZID=Europe/Moscow:20260612T113000
DTSTAMP:20260423T032103
CREATED:20260412T191609Z
LAST-MODIFIED:20260412T192338Z
UID:10003428-1781254800-1781263800@www.icpak.com
SUMMARY:Budget Review and Analysis Seminar (virtual option)
DESCRIPTION:THE INSTITUTE OF CERTIFIED PUBLIC ACCOUNTANTS OF KENYA\n(Established under the Accountants Act\, Laws of Kenya) \nBudget Review & Analysis Seminar (virtual option)\nDate: 12th June 2026\nTime: 09.00-11.30am\nVenue: Zoom \nOverview \nTarget Audience \nAudit and tax practitioners\, Personnel handling tax issues in organizations\, Representatives from KRA\, Taxpayers’ association(s)\, Accountants\, Finance Professionals\, Auditors\, Chief Finance officers\, Academia. \nContinuous Professional Development Units (CPD Units): \nMembers of ICPAK and reciprocating professional bodies will be awarded 5 CPD Units upon successfully attending the session. \nCost: \n\n\n\nCategory\nPhysical\nVirtual\n\n\nAssociates\n Kes.5\,500.00 – per delegate\nKes. 5\,000.00 – per delegate\n\n\nMembers\n  Kes.5\,500.00 – per delegate\n Kes. 5\,000.00 – per delegate\n\n\nNon-members\n  Kes.5\,500.00 per delegate\n Kes.5\,000.00 – per delegate\n\n\n\nOnline Booking: \nWe call on Seminar participants to note that booking is available only online at www.icpak.com/events and will close two hours before the training session.  Delegates are reminded to note that online booking for training sessions is mandatory.   This is available either online at www.icpak.com/events  or on the ICPAK Live – A smart phone-based application that is available from google store. \nNational Industrial Training Authority (NITA) Reimbursement: \nThe Institute is registered as a trainer with the National Industrial Training Authority. The Institute’s registration number is DIT/TRN/47. Participants who are registered levy contributors should apply to NITA for reimbursement of their fees. Please note that this is applicable for Kenyan citizens only and subject to NITA regulations. Remember that to qualify you should apply to NITA for approval prior to the date of the conference. Further details can be obtained from their website (www.nita.go.ke) \nFurther requests can be channeled to us via telephone calls on +254 719 074 000\, or via email to marketing@icpak.com
URL:https://www.icpak.com/event/budget-review-and-analysis-seminar-virtual-option/
LOCATION:Virtual Delivery
CATEGORIES:Local Seminars,Virtual Symposiums
END:VEVENT
BEGIN:VEVENT
DTSTART;TZID=Europe/Moscow:20260615T090000
DTEND;TZID=Europe/Moscow:20260619T153000
DTSTAMP:20260423T032103
CREATED:20260102T183558Z
LAST-MODIFIED:20260203T075404Z
UID:10003304-1781514000-1781883000@www.icpak.com
SUMMARY:THE ANNUAL NPO CONFERENCE  (with PBORA)
DESCRIPTION:INSTITUTE OF CERTIFIED PUBLIC ACCOUNTANTS OF KENYA\n(Established under the Accountants Act\, Laws of Kenya) \nTHE ANNUAL NPO CONFERENCE (with PBORA)\nTheme: Strengthening Accountability\, Transparency and Sustainability in the Non-Profit Sector\nDate: 15th – 19th June 2026\nVenue: Pride Inn Paradise Beach Hotel\, Mombasa\nTime: 09.30am-03.30pm \nOVERVIEW: \nThe non-profit sector in Kenya remains central to social delivery and development finance\, but it is operating in a period of rapidly rising stakeholder expectations and regulatory tightening. Regulators and donors now demand stronger evidence of stewardship\, clearer links between funding and outcomes\, and financial reports that are comparable\, decision-useful and auditable. At the same time\, many NPOs face persistent operational weaknesses: fragmented accounting practices\, weak internal controls\, inconsistent recognition of grants and restricted funds\, poor donor reporting harmonization\, and low readiness for external assurance. These gaps undermine donor confidence\, hamper interoperability with government financing and create reputational risk for the sector. \nThe introduction of the International Non-Profit Accounting Standard (INPAS) marks a pivotal moment for NPO financial reporting. INPAS is designed specifically to address NPO reporting needs including improving transparency\, comparability and credibility of NPO financial statements\, and providing sector-tailored guidance where existing for-profit standards are inadequate. INPAS is a standalone\, topic-based standard that builds on the IFRS for SMEs\, full IFRS and IPSAS where appropriate\, while adding NPO-specific solutions (for example on fund accounting\, revenue from grants/donations\, narrative reporting and transition requirements). Its objectives include improving decision-usefulness and accountability of NPO reports. \nPractical implementation of INPAS raises immediate technical and governance issues that must be handled at institutional and sectoral levels. Transition disclosures\, reconciliations to prior frameworks and narrative reporting are required by INPAS and will impose new preparation\, control and disclosure workstreams for many NPOs. INPAS also recognizes cost/benefit trade-offs and permits limited undue-cost exemptions where justified\, but any adoption still requires robust planning\, updated accounting policies\, staff retraining and stronger audit readiness. \nFor these reasons the Annual NPO Conference (with PBORA) will position INPAS not as a remote technical standard but as a practical\, implementable roadmap for accountability: one that requires coordinated action from boards\, finance teams\, auditors\, regulators and donors. The conference will therefore combine high-level policy dialogue with hands-on technical clinics\, worked examples and implementation toolkits so participants leave with clear next steps from revising accounting policies and preparing transition reconciliations to strengthening internal controls and improving donor reporting harmonization. This integrated approach will accelerate adoption\, reduce dual-reporting burdens and strengthen public confidence in the sector. \nTopics to be covered will include: \n\n\n\nDAY\nMODULE\nTOPICS\n\n\nDAY 1\nINPAS: Purpose\, Scope and Strategic Implications for Kenyan NPOs\n·         Why INPAS was developed and its principal objectives (transparency\, comparability\, credibility). \n·         INPAS’ scope\, relationship to IFRS for SMEs / IFRS / IPSAS and when NPOs should use it. \n·         High-level differences NPOs must anticipate (fund accounting\, narrative reporting\, grant treatment). \n·         Strategic implications for boards\, funders and auditors; setting a sectoral adoption roadmap. \n \n\n\nTransition to INPAS: Practical Steps & Required Disclosures\n·         Transition mechanics: retrospective application\, reconciliation requirements and required narratives. \n·         Preparing the reconciliation of net assets and surplus/deficit to prior framework (checklist). \n·         Handling impracticability and undue cost/effort exemptions (disclosure expectations). \n·         Project plan template: stakeholder map\, data gaps\, timetable and governance for transition \n \n\n\nFund Accounting & Restricted Funds under INPAS\n·         Core concepts: restricted vs unrestricted funds and fund presentation requirements. \n·         Recognition and measurement of donor-restricted grants and endowments. \n·         Designing fund ledgers\, chart of accounts and disclosures aligned to B8 Fund Accounting. \n·         Practical ledgers and reclassification examples. \n \n\n\nDAY 2\nNarrative Reporting: Making Financials Decision-Useful\n·         Minimum narrative components required by INPAS (management commentary / narrative reporting). \n·         Linking narrative reporting to financial statements and programme outcomes. \n·         Materiality\, non-financial KPIs and the user-focus principle in INPAS narrative guidance. \n·         Practical template for an NPO narrative report.\n\n\nNon-Financial Assets: PPE\, Intangibles\, Investment Property & Impairment\n·         Recognition and measurement rules for property\, plant & equipment and intangibles (E2\, E4). \n·         Investment property accounting and presentation. \n·         Impairment testing and disclosure (E5) with worked examples relevant to NPO assets. \n·         Asset register best practices and depreciation policy checklists.\n\n\nCompliance and Regulatory Reporting (PBORA focus)\n·         PBO Act\, 2024 & upcoming regulations \n·         Interplay between INPAS financial statements and regulatory returns; common differences. \n·         PBORA reporting obligations\, registration\, and compliance checkpoints. \n·         Reconciling INPAS financial statements to statutory submissions and donor reports. \n·         Practical checklist for avoiding regulatory penalties and improving PBORA liaison.\n\n\nDAY 3\nOverview of the Non-Profit Sector Performance\n·         Overview of the size\, composition and economic footprint of the NPO sector in Kenya \n·         Analysis of recent sector performance trends \n·         Financial sustainability indicators in the sector \n·         Common financial reporting and governance weaknesses observed across the sector \n·         Implications of sector performance trends for boards\, finance teams and auditors\n\n\nResource Mobilization Strategy for Sustainable NPOs\n·         Overview of resource mobilization in the current NPO funding environment \n·         Strategic approaches to diversifying funding sources \n·         Governance and control considerations in resource mobilization \n·         Linking resource mobilization to financial planning and reporting \n·         Role of accountants and finance teams in resource mobilization\n\n\nEffective Budgeting for Non-Profit Organisations\n·         Purpose of budgeting in the NPO context \n·         Types of budgets used by NPOs \n·         Key budgeting challenges in NPOs \n·         Budget preparation best practices \n·         Budget monitoring and control \n·         Role of budgets in donor and regulatory reporting\n\n\nDAY 4\nESG Considerations for NPOs – Applying IFRS Sustainability Disclosure Concepts\n\n\nWhy ESG and IFRS Sustainability concepts matter for NPOs\nApplying IFRS S1 (General Sustainability-Related Disclosures) in the NPO context\nApplying IFRS S2 (Climate-Related Disclosures) in the NPO context\n\n \n\n\nPersonal Financial Management\n\n\nPersonal Financial Management\n\n\n\n\n\nTARGET AUDIENCE \nThe training will be beneficial to professional Accountants\, Heads of Finance\, strategy consultants\, academic and other finance professionals working in the NPO sector. \nCONTINUOUS PROFESSIONAL DEVELOPMENT UNITS (CPD UNITS): \nMembers of ICPAK and reciprocating professional bodies will be awarded 20 Structured CPD Units upon successfully completion of the Conference. \nFINANCIAL COMMITMENT: \n\n\n\nCategory\nCharges Physical \n\n\nAssociate Members\nKes 54\,000 per Delegate\n\n\nFull Members\nKes. 59\,000 per Delegate\n\n\nNon-Member\nKes. 64\,000 per Delegate\n\n\nAccommodation\nDelegates are advised to make own travel and accommodation arrangements\n\n\n\n**Charges will cater for daytime meals\, conference giveaways\, learning materials\, and certificates of attendance.  \nONLINE BOOKING \nRegistration: Delegates are reminded to note that online booking for webinar is mandatory on Online Booking We call on interested participants to note that bookings for the event are available online at www.icpak.com  and will close two hours before the training session. Delegates are reminded to note that online booking for training sessions is mandatory. \nNATIONAL INDUSTRIAL TRAINING AUTHORITY (NITA) REIMBURSEMENT \nThe Institute is registered as a trainer with the National Industrial Training Authority. The Institute’s registration number is DIT/TRN/47. Participants who are registered levy contributors should apply to NITA for reimbursement of their fees. Please note that this is applicable for Kenyan citizens only and subject to NITA regulations. Remember that to qualify you should apply to NITA for approval prior to the date of the conference. Further details can be obtained from their website (www.nita.go.ke) \nFurther requests can be channeled to us via telephone calls on +254 719 074 000\, or via email to marketing@icpak.com
URL:https://www.icpak.com/event/the-annual-npo-conference-with-pbora/
LOCATION:Pride Inn Paradise Hotel\, Mombasa
CATEGORIES:Local Seminars
GEO:-4.0434771;39.6682065
END:VEVENT
BEGIN:VEVENT
DTSTART;TZID=Europe/Moscow:20260618T090000
DTEND;TZID=Europe/Moscow:20260619T153000
DTSTAMP:20260423T032103
CREATED:20251222T090830Z
LAST-MODIFIED:20251222T091703Z
UID:10003248-1781773200-1781883000@www.icpak.com
SUMMARY:Audit Documentation- ISA 230 Practical Course 2026
DESCRIPTION:INSTITUTE OF CERTIFIED PUBLIC ACCOUNTANTS OF KENYA\n(Established under the Accountants Act\, Laws of Kenya) \nAudit Documentation- ISA 230 Practical Course\nDate: 18th–19th June 2026\nTime: 9.00-15.30\nVenue: ICPAK Auditorium\nTheme: Purpose and Principles of Audit Documentation \nOverview \nAudit documentation is a foundational element of high-quality audits. International Standard on Auditing (ISA) 230\, Audit Documentation\, sets out the auditor’s responsibility to prepare audit documentation that provides a sufficient and appropriate record of the basis for the auditor’s report and evidence that the audit was conducted in accordance with ISAs and applicable legal and regulatory requirements. \nHowever\, many audit practitioners particularly early-career auditors and professionals transitioning into audit roles face challenges in applying ISA 230 practically. Common issues include inadequate working papers\, unclear linkages between audit procedures and conclusions\, insufficient evidence\, poor referencing\, and inconsistent use of audit software. As regulatory scrutiny increases globally\, audit firms and institutions must invest in strengthening audit documentation skills to ensure audit quality\, compliance\, and defensibility. \nThis two-day practical course is designed to bridge the gap between theory and practice by equipping participants with hands-on experience in preparing high-quality audit documentation aligned with ISA 230. \nThe following topics will be covered: \n1. Foundations and Core Documentation Requirements\n\nIntroduction to ISA 230: Purpose\, scope\, and key requirements\nPrinciples of effective documentation\nWhat constitutes sufficient and appropriate audit documentation\nStructure and components of a complete audit file\nDocumenting planning and risk assessment\nPractical Exercise: Preparing planning working papers\n\n2. Practical Tools\, Case Studies\, and Review Techniques\n\nDocumenting audit procedures\, evidence\, and conclusions\nRecording professional judgment and significant matters\nCommon deficiencies identified by regulators and how to avoid them\nUse of audit software/tools and standard templates\nPractical Exercise: End-to-end documentation of a sample audit area\nReview and wrap-up: How to build a strong documentation culture\n\nTARGET AUDIENCE: \nThis course will be useful to professionals in the Audit and accounting sector with bias on assurance professionals and specifically:  \n\nSupervisors in external audit\, internal audit and compliance\nAudit associates and seniors\n\n\nMid-level managers looking to enhance their auditing skills\n\n\nIndividuals responsible for overseeing audits or teams involved in auditing\nTax Practitioners and Tax Experts\nFinancial Controllers and Credit Managers\n\n\nAccounting and finance professionals involved in assurance\nRisk and compliance officers\n\nYOUR FINANCIAL COMMITMENT \nCharges for the training will be Kes 10\,000/= which will cover workshop fees\, materials\, and e-certificates of attendance. \nCPD UNITS \nMembers of ICPAK and reciprocating professional bodies will be awarded 10 Structured CPD Units upon successfully attending all sessions. \nONLINE BOOKING: \nWe call on Seminar participants to note that booking for is available only online at www.icpak.com/events and will close two hours before the training session.  Delegates are reminded to note that online booking for training sessions is mandatory.   This is available either online at www.icpak.com/events  or on the ICPAK Live – A smart phone-based application that is available from google store. \n NITA REIMBURSEMENT: \nThe Institute is registered as a trainer with National Industrial Training Authority. The Institute’s registration number is DIT/TRN/47. Participants who are registered levy contributors should apply to NITA for reimbursement of their fees. Please note that this is applicable for Kenyan citizens only and subject to NITA regulations. Remember that to qualify you should apply to NITA for approval prior to the date of the conference. Further details can be obtained from their website (www.nita.go.ke). \nFurther requests can be channeled to us via telephone calls on +254 719 074 100\,  or via email to marketing@icpak.com. \nWe encourage members to regularly visit our website https://www.icpak.com for updates
URL:https://www.icpak.com/event/audit-documentation-isa-230-practical-course-2026/
LOCATION:ICPAK Auditorium\, CPA Centre\, Nairobi
CATEGORIES:Local Seminars
END:VEVENT
END:VCALENDAR