BEGIN:VCALENDAR
VERSION:2.0
PRODID:-//ICPAK - ECPv6.5.0//NONSGML v1.0//EN
CALSCALE:GREGORIAN
METHOD:PUBLISH
X-ORIGINAL-URL:https://www.icpak.com
X-WR-CALDESC:Events for ICPAK
REFRESH-INTERVAL;VALUE=DURATION:PT1H
X-Robots-Tag:noindex
X-PUBLISHED-TTL:PT1H
BEGIN:VTIMEZONE
TZID:Europe/Moscow
BEGIN:STANDARD
TZOFFSETFROM:+0300
TZOFFSETTO:+0300
TZNAME:MSK
DTSTART:20260101T000000
END:STANDARD
END:VTIMEZONE
BEGIN:VEVENT
DTSTART;TZID=Europe/Moscow:20260504T090000
DTEND;TZID=Europe/Moscow:20260508T153000
DTSTAMP:20260423T033112
CREATED:20251223T100913Z
LAST-MODIFIED:20260329T190649Z
UID:10003261-1777885200-1778254200@www.icpak.com
SUMMARY:THE ABCs OF FINANCE: FINANCE FOR NON-FINANCE PROFESSIONALS CONFERENCE
DESCRIPTION:INSTITUTE OF CERTIFIED PUBLIC ACCOUNTANTS OF KENYA\n(Established under the Accountants Act\, Laws of Kenya) \nTHE ABCs OF FINANCE: FINANCE FOR NON-FINANCE PROFESSIONALS CONFERENCE\nTheme: Empowering Non-Finance Professionals with Practical Financial Insights for Informed Decision-Making\nDate: 4th-8th May 2026\nTime: 09.00am-03.30pm\nVenue: Sawela Lodge\, Naivasha. \nOVERVIEW \nIn today’s interconnected business environment\, financial literacy is no longer confined to accountants and finance specialists. Non-finance professionals\, such as managers in marketing\, operations\, HR\, or IT\, increasingly need to understand financial principles to contribute effectively to organizational success. Finance training equips them with the tools to interpret financial data\, make informed decisions\, and align their departmental goals with the company’s overall financial health. \nThere is a growing need for professionals in all fields to have a basic understanding of financial concepts that would enable them to contribute to organizational decision-making. Interpreting financial information and appreciating the consequences of budgetary decisions\, or understanding the financial health of an entity\, are no longer the exclusive domain of a finance department. As organizations increasingly adopt more integrated approaches to operations\, finance continues to play a central role in ensuring transparency\, sustainability\, and responsible resource allocation. Enhancing financial competencies among staff outside the finance function supports better governance structures\, reduces risk\, and enhances the effective monitoring of performance \nOne of the primary benefits of finance training for non-finance professionals is enhanced decision-making. By understanding key concepts like budgeting and cost control\, non finance professionals will be able evaluate the financial implications of their choices\, leading to more strategic and profitable outcomes. This empowers them to identify opportunities for cost savings and revenue growth within their roles. \nThis finance training will also bridge communication gaps between departments. Non-finance staff often collaborate with finance teams on projects or reports. With basic financial knowledge\, they can speak the “language of finance\,” ask relevant questions\, and provide meaningful input\, fostering better teamwork and reducing misunderstandings. The conference will delve into reading and interpreting financial statements—the balance sheet\, income statement\, and cash flow statement. These documents provide a snapshot of a company’s financial position\, performance\, and liquidity\, allowing professionals to assess health and spot potential issues early. The discussions will bridge the gap in knowledge by equipping the non-finance professional with fundamental financial concepts supportive of informed decision-making\, accountability\, and performance improvement across roles and sectors. \nThe ABCs of Finance for Non-Finance Professionals Conference aims to demystify core areas of finance perceived to be complex. The approach is designed to give participants insights\, in a practical way\, into how financial systems work\, what the financial statements really say\, and how financial plans drive strategy and operational priorities. This conference offers an enabling\, yet simplified\, approach toward financial literacy\, empowering professionals to engage confidently with financial conversations and meaningfully contribute to organizational planning and control processes. \nAt the end of the conference\, participants should be able to appreciate how to interpret financial information; understand how budgets are prepared; analyze the performance of an organization; and assist executives in strategic resource allocation decisions. \nThe following topics will be discussed during the conference: \n\nIntroduction to Financial Management – Understanding the role of finance in organizational operations and decision-making.\nUnderstanding Key Financial Statements – A practical guide to interpreting the statement of financial position\, income statement\, and cash flow statement.\nBudgeting and Budgetary Controls – How budgets are prepared\, monitored\, and applied to manage resources effectively.\nCost Management and Cost Behaviour – Key concepts in identifying\, classifying\, and managing costs within different operational settings.\nWorking Capital and Cash Flow Essentials – Appreciating the importance of liquidity\, short-term financing\, and operational cash flow.\nFinancial Ratios and Performance Analysis – How to evaluate financial performance and organizational health using simple analytical tools.\nInternal Controls and Risk Awareness for Non-Finance Staff – Strengthening accountability and safeguarding organizational resources.\nLinking Finance to Strategy and Decision-Making – Understanding how financial insights support long-term planning and strategic initiatives.\nEthics\, Compliance\, and Governance Considerations – Building awareness of ethical responsibilities and compliance requirements influencing financial operations.\n\nTARGET AUDIENCE \nThis course targets professionals from various fields who need to use financial information regularly in their interactions or organizational planning and decision-making. It will also be of relevance and great value to managers and supervisors in operations\, human resources\, procurement\, administration\, project management\, and corporate services who seek a stronger foundation in the concepts of finance for improving their effectiveness. The program will also be of value to entrepreneurs\, SMEs\, heads of departments\, technical staff seeking an improvement in financial literacy\, and an understanding of budgets\, reports\, and financial performance indicators of organizations. Also targeted are public sector officers\, NGO personnel\, and people moving into positions that have financial responsibilities\, for whom discussions will not only enhance their capacity but also provide them with the ability to support good governance\, accountability\, and proper resource management within their institutions. \nCONTINUOUS PROFESSIONAL DEVELOPMENT UNITS (CPD UNITS): \nMembers of ICPAK and reciprocating professional bodies will be awarded 20 Structured CPD Units upon successfully completion of the training. \nFINANCIAL COMMITMENT: \n\n\n\nCategory\nCharges Physical \n\n\nAssociate Members\nKes 64\,000 per Delegate\n\n\nFull Members\nKes. 69\,000 per Delegate\n\n\nNon-Member\nKes. 74\,000 per Delegate\n\n\n\n\nCharges will cater for daytime meals\, conference giveaways\, learning materials\, and certificates of attendance. \nDelegates are advised to make own travel and accommodation arrangements.\n\nONLINE BOOKING \nRegistration: Delegates are reminded to note that online booking for webinar is mandatory on https://www.icpak.com/event-registration/Online Booking \nWe call on interested participants to note that booking for the event is available online at www.icpak.com  and will close two hours before the training session. Delegates are reminded to note that online booking for training sessions is mandatory. \n NATIONAL INDUSTRIAL TRAINING AUTHORITY (NITA) REIMBURSEMENT \nThe Institute is registered as a trainer with National Industrial Training Authority. The Institute’s registration number is DIT/TRN/47. Participants who are registered levy contributors should apply to NITA for reimbursement of their fees. Please note that this is applicable for Kenyan citizens only and subject to NITA regulations. Remember that to qualify you should apply to NITA for approval prior to the date of the conference. Further details can be obtained from their website (www.nita.go.ke) \nFurther requests can be channeled to us via telephone calls on +254 719 074 000\,  or via email to marketing@icpak.com
URL:https://www.icpak.com/event/the-abcs-of-finance-finance-for-non-finance-professionals-conference/
LOCATION:Sawela Lodge\, Naivasha\, 00100\, Kenya
CATEGORIES:Local Seminars
GEO:-0.7171778;36.4310251
END:VEVENT
END:VCALENDAR