BEGIN:VCALENDAR
VERSION:2.0
PRODID:-//ICPAK - ECPv6.5.0//NONSGML v1.0//EN
CALSCALE:GREGORIAN
METHOD:PUBLISH
X-WR-CALNAME:ICPAK
X-ORIGINAL-URL:https://www.icpak.com
X-WR-CALDESC:Events for ICPAK
REFRESH-INTERVAL;VALUE=DURATION:PT1H
X-Robots-Tag:noindex
X-PUBLISHED-TTL:PT1H
BEGIN:VTIMEZONE
TZID:Europe/Moscow
BEGIN:STANDARD
TZOFFSETFROM:+0300
TZOFFSETTO:+0300
TZNAME:MSK
DTSTART:20260101T000000
END:STANDARD
END:VTIMEZONE
BEGIN:VEVENT
DTSTART;TZID=Europe/Moscow:20260608T090000
DTEND;TZID=Europe/Moscow:20260612T153000
DTSTAMP:20260423T044423
CREATED:20260102T190000Z
LAST-MODIFIED:20260203T083802Z
UID:10003305-1780909200-1781278200@www.icpak.com
SUMMARY:THE TAXATION MASTERCLASS 2026 EDITION 2 (mandatory training)
DESCRIPTION:INSTITUTE OF CERTIFIED PUBLIC ACCOUNTANTS OF KENYA\n(Established under Accountants Act\, Laws of Kenya) \nTHE TAXATION MASTERCLASS 2026 EDITION 2\nTheme: \nDate: 8th-12th June 2026\nTime: 09.00am-03.30pm\nVenue: Sarova Whitesands Beach Resort & Spa\, Mombasa \nThis is one of the mandatory trainings for Practicing Certificate consideration \nOVERVIEW \nTARGET AUDIENCE \nICPAK Members \,Accountants in both private and public sector \, Chief Finance Officers\, Finance Directors and Managers\, Private and Public Tax Practitioners\, Public Sector Accountants\, Transaction Advisors\, Engagement Partners and Key Audit staff\, Banking\, Financial services sector Accountants\, Internal Auditors\, Professionals working in Government and private sectors\, Accountants in Academia\, current and potential members of ICPAK\, members of other professional associations. \nYOUR FINANCIAL COMMITMENT \nThe seminar charges are Ksh 95\,000 per delegate for both members and non-members. \nContinuous Professional Development Units: \nMembers of ICPAK and other reciprocating professional bodies will earn 20 CPD points upon successfully attending the Master Class. \nOnline Booking: \nWe call on all participants to note that booking is available only online at www.icpak.com/events and will close two hours before the training session.  Delegates are reminded to note that online booking for training sessions is MANDATORY.   This is available either online at www.icpak.com/events \, you can also reach us through marketing@icpak.com \nNational Industrial Training Authority (NITA) Reimbursement: \nThe Institute is registered as a trainer with National Industrial Training Authority. The Institute’s registration number is DIT/TRN/47. Participants who are registered levy contributors should apply to NITA for reimbursement of their fees. Please note that this is applicable for Kenyan citizens only and subject to NITA regulations. Remember that to qualify you should apply to NITA for approval prior to the date of the conference. Further details can be obtained from their website (www.nita.go.ke) \nFurther requests can be channeled to us via telephone calls on +254 719 074 100\,  or via email to marketing@icpak.com. \nWe encourage members to regularly visit our website https://www.icpak.com for updates.
URL:https://www.icpak.com/event/the-taxation-masterclass-2026-edition-2-mandatory-training/
LOCATION:Sarova Whitesands Beach Resort and Spa\, Mombasa\, Kenya
CATEGORIES:Local Seminars,Mandatory Trainings
GEO:-4.0434771;39.6682065
END:VEVENT
END:VCALENDAR