BEGIN:VCALENDAR
VERSION:2.0
PRODID:-//ICPAK - ECPv6.5.0//NONSGML v1.0//EN
CALSCALE:GREGORIAN
METHOD:PUBLISH
X-ORIGINAL-URL:https://www.icpak.com
X-WR-CALDESC:Events for ICPAK
REFRESH-INTERVAL;VALUE=DURATION:PT1H
X-Robots-Tag:noindex
X-PUBLISHED-TTL:PT1H
BEGIN:VTIMEZONE
TZID:Europe/Moscow
BEGIN:STANDARD
TZOFFSETFROM:+0300
TZOFFSETTO:+0300
TZNAME:MSK
DTSTART:20260101T000000
END:STANDARD
END:VTIMEZONE
BEGIN:VEVENT
DTSTART;TZID=Europe/Moscow:20260706T090000
DTEND;TZID=Europe/Moscow:20260710T153000
DTSTAMP:20260423T060929
CREATED:20251222T195609Z
LAST-MODIFIED:20260407T194025Z
UID:10003259-1783328400-1783697400@www.icpak.com
SUMMARY:THE 7TH ANNUAL BOARD TRAINING
DESCRIPTION:INSTITUTE OF CERTIFIED PUBLIC ACCOUNTANTS OF KENYA\n(Established under the Accountants Act\, Laws of Kenya) \nTHE 7TH ANNUAL BOARD TRAINING\nTheme: Effective Modern-Day Governance for Solid Foundations\nDATE: 6TH JULY– 10TH JULY 2026\nTIME: 09.00AM-03.30PM\nENASHIPAI RESORT\, NAIVASHA \nOVERVIEW \nBoards are the central force behind organizational stability and strategic success\, charged with guiding vision\, safeguarding integrity and ensuring long-term growth. In today’s rapidly changing environment\, where technology\, regulation\, and stakeholder expectations converge\, boards must operate with insight\, resilience\, and foresight. Their ability to anticipate challenges\, make informed decisions and cultivate trust directly influences organizational performance and credibility\, positioning the board as a decisive force for enduring excellence. \nEffectiveness in modern governance requires boards to balance strategic thinking with operational intelligence. Understanding the financial and operational health of an organization\, integrating long-term risk considerations and ensuring accountability allows boards to navigate complexity with clarity. Inclusive dialogue\, ethical leadership and constructive debate strengthen cohesion\, enabling boards to make decisions that reflect both organizational priorities and stakeholder expectations while fostering a culture of integrity and transparency. \nBoards are also architects of future resilience. By embracing diversity of thought\, preparing for leadership continuity\, and adopting emerging technologies responsibly\, boards can guide organizations through uncertainty while maintaining adaptability and innovation. Their oversight ensures that strategic objectives\, sustainability considerations\, and societal responsibilities are integrated into the organization’s operations\, fostering an environment where growth\, accountability\, and long-term value coexist. \nHigh-performing boards understand that governance extends beyond oversight; it is a catalyst for shaping organizational trajectory. By combining foresight\, risk intelligence\, ethical stewardship\, and adaptive leadership\, boards provide stability and vision in times of disruption. In an era defined by digital transformation\, evolving regulations\, and heightened expectations\, boards that embrace these principles position their organizations to thrive\, remain resilient\, and achieve sustainable success. It is in this consideration that ICPAK has planned a 5-day board training with specific emphasis on the following areas: \n\nBoard Roles and Fiduciary Duties in a Digital World – Modern responsibilities and legal obligations of directors.\nEmerging Legal and Regulatory Trends for Boards – Staying ahead of compliance\, liability\, and sector-specific updates.\nEthical Leadership and Accountability at the Board Level – Strengthening transparency and integrity in decision-making.\nBoard Dynamics and Collaborative Decision-Making – Enhancing teamwork\, conflict resolution\, and effective meetings.\nAdvanced Financial Literacy for Strategic Oversight – Understanding statements\, ratios\, and budgeting for informed governance.\nStrategic Planning and Organizational Guidance – Shaping\, monitoring\, and evaluating long-term organizational strategies.\nBuilding a Risk-Intelligent Board – Identifying\, assessing\, and mitigating financial\, operational\, and cyber risks.\nPerformance Monitoring and Accountability Metrics – Tools to measure board and management effectiveness.\nEmbedding ESG into Board Oversight – Integrating sustainability and social responsibility into strategy and operations.\nAI\, Technology\, and Digital Governance – Leveraging tech responsibly while managing emerging risks.\nSuccession Planning and Leadership Continuity – Preparing for seamless transitions at board and executive levels.\nDiversity\, Inclusion\, and High-Impact Boards – Strengthening decision-making through varied perspectives and skills.\nBook Review: Boards That Lead: When to Take Charge\, When to Partner\, and When to Stay Out of the Way by Ram Charan\, Dennis Carey\, and Michael Useem – Practical insights on balancing oversight\, strategy\, and collaboration.\n\n TARGET AUDIENCE \nThe training will be beneficial to Board Members\, Board Chairpersons\, Board Committee Members and Committee Chairpersons\, Board Secretaries\, CEOs\, Senior Management\, Aspiring Board Members\, Business Owners\, and Entrepreneurs\, \n CONTINUOUS PROFESSIONAL DEVELOPMENT UNITS (CPD UNITS): \nMembers of ICPAK and reciprocating professional bodies will be awarded 20 Structured CPD Units upon successfully completion of the training. \nFINANCIAL COMMITMENT \nThe Board training charges are Kshs. 90\,000. Charges will cater for daytime meals\, conference giveaways\, learning materials\, and certificates of attendance. Delegates are advised to make own travel and accommodation arrangements. \nONLINE BOOKING \nRegistration: Delegates are reminded to note that online booking for webinar is mandatory on https://www.icpak.com/event-registration/Online Booking \nWe call on interested participants to note that booking for the event is available online at www.icpak.com  and will close two hours before the training session. Delegates are reminded to note that online booking for training sessions is mandatory. \nNATIONAL INDUSTRIAL TRAINING AUTHORITY (NITA) REIMBURSEMENT \nThe Institute is registered as a trainer with National Industrial Training Authority. The Institute’s registration number is DIT/TRN/47. Participants who are registered levy contributors should apply to NITA for reimbursement of their fees. Please note that this is applicable for Kenyan citizens only and subject to NITA regulations. Remember that to qualify you should apply to NITA for approval prior to the date of the conference. Further details can be obtained from their website (www.nita.go.ke) \nFurther requests can be channeled to us via telephone calls on +254 719 074 100\, or via email to marketing@icpak.com
URL:https://www.icpak.com/event/the-7th-annual-board-training/
LOCATION:Enashipai Resort & Spa\, Naivasha\, 00100\, Kenya
CATEGORIES:Local Seminars
END:VEVENT
END:VCALENDAR