BEGIN:VCALENDAR
VERSION:2.0
PRODID:-//ICPAK - ECPv6.5.0//NONSGML v1.0//EN
CALSCALE:GREGORIAN
METHOD:PUBLISH
X-WR-CALNAME:ICPAK
X-ORIGINAL-URL:https://www.icpak.com
X-WR-CALDESC:Events for ICPAK
REFRESH-INTERVAL;VALUE=DURATION:PT1H
X-Robots-Tag:noindex
X-PUBLISHED-TTL:PT1H
BEGIN:VTIMEZONE
TZID:Europe/Moscow
BEGIN:STANDARD
TZOFFSETFROM:+0300
TZOFFSETTO:+0300
TZNAME:MSK
DTSTART:20260101T000000
END:STANDARD
END:VTIMEZONE
BEGIN:VEVENT
DTSTART;TZID=Europe/Moscow:20260713T090000
DTEND;TZID=Europe/Moscow:20260717T153000
DTSTAMP:20260423T060840
CREATED:20260103T222648Z
LAST-MODIFIED:20260103T223209Z
UID:10003313-1783933200-1784302200@www.icpak.com
SUMMARY:THE IFRS MASTER CLASS 2026 (Mandatory Training)
DESCRIPTION:INSTITUTE OF CERTIFIED PUBLIC ACCOUNTANTS OF KENYA\n(Established under the Accountants Act\, Laws of Kenya) \nTHE IFRS MASTER CLASS 2026 (Mandatory Training) \nTheme:\nDate: 13th -17th July 2026\nTime: 09.00am-03.30pm\nVenue: Radisson Blu Hotel Nairobi \nThis is one of the mandatory trainings for Practicing Certificate consideration \nOVERVIEW \nTARGET AUDIENCE \nICPAK Members \,Accountants  \,Members of Boards in public and private corporations\, Chief Finance Officers\, Finance Directors and Managers\, Private and Public Audit Practitioners\, Public Sector Accountants\, Transaction Advisors\, Engagement Partners and Key Audit staff\, Banking\, Financial services sector Accountants\, Internal Auditors\, Tax Practitioners\, Professionals working in Government and private sectors\, Accountants in Academia\, current and potential members of ICPAK\, members of other professional associations. \nYOUR FINANCIAL COMMITMENT \nThe seminar charges are Ksh 95\,000 per delegate for both members and non-members. \nCPD UNITS \nMembers of ICPAK and reciprocating professional bodies will be awarded 20 CPD Units upon successfully attending all seminar sessions. \nNITA REIMBURSEMENT  \nThe Institute is registered as a trainer with the National Industrial Training Authority (NITA) The Institute’s registration number is DIT/TRN/47.  Participants who are registered levy contributors should apply to NITA for reimbursement of their fees. Please note that this is applicable for Kenyan citizens only. To qualify you should apply to NITA for approval prior to the date of the seminar \nFurther requests can be channeled to us via telephone calls on +254 719 074 100\,  or via email to marketing@icpak.com. \nWe encourage members to regularly visit our website https://www.icpak.com for updates.
URL:https://www.icpak.com/event/the-ifrs-master-class-2026-mandatory-training/
LOCATION:Radisson Blu Hotel\, Radisson Blu Hotel\, Nairobi\, Kenya
CATEGORIES:Local Seminars
GEO:-1.3020168;36.8167572
X-APPLE-STRUCTURED-LOCATION;VALUE=URI;X-ADDRESS=Radisson Blu Hotel Radisson Blu Hotel Nairobi Kenya;X-APPLE-RADIUS=500;X-TITLE=Radisson Blu Hotel:geo:36.8167572,-1.3020168
END:VEVENT
END:VCALENDAR