BEGIN:VCALENDAR
VERSION:2.0
PRODID:-//ICPAK - ECPv6.5.0//NONSGML v1.0//EN
CALSCALE:GREGORIAN
METHOD:PUBLISH
X-WR-CALNAME:ICPAK
X-ORIGINAL-URL:https://www.icpak.com
X-WR-CALDESC:Events for ICPAK
REFRESH-INTERVAL;VALUE=DURATION:PT1H
X-Robots-Tag:noindex
X-PUBLISHED-TTL:PT1H
BEGIN:VTIMEZONE
TZID:Europe/Moscow
BEGIN:STANDARD
TZOFFSETFROM:+0300
TZOFFSETTO:+0300
TZNAME:MSK
DTSTART:20260101T000000
END:STANDARD
END:VTIMEZONE
BEGIN:VEVENT
DTSTART;TZID=Europe/Moscow:20260713T090000
DTEND;TZID=Europe/Moscow:20260717T153000
DTSTAMP:20260423T060800
CREATED:20260103T222648Z
LAST-MODIFIED:20260103T223209Z
UID:10003313-1783933200-1784302200@www.icpak.com
SUMMARY:THE IFRS MASTER CLASS 2026 (Mandatory Training)
DESCRIPTION:INSTITUTE OF CERTIFIED PUBLIC ACCOUNTANTS OF KENYA\n(Established under the Accountants Act\, Laws of Kenya) \nTHE IFRS MASTER CLASS 2026 (Mandatory Training) \nTheme:\nDate: 13th -17th July 2026\nTime: 09.00am-03.30pm\nVenue: Radisson Blu Hotel Nairobi \nThis is one of the mandatory trainings for Practicing Certificate consideration \nOVERVIEW \nTARGET AUDIENCE \nICPAK Members \,Accountants  \,Members of Boards in public and private corporations\, Chief Finance Officers\, Finance Directors and Managers\, Private and Public Audit Practitioners\, Public Sector Accountants\, Transaction Advisors\, Engagement Partners and Key Audit staff\, Banking\, Financial services sector Accountants\, Internal Auditors\, Tax Practitioners\, Professionals working in Government and private sectors\, Accountants in Academia\, current and potential members of ICPAK\, members of other professional associations. \nYOUR FINANCIAL COMMITMENT \nThe seminar charges are Ksh 95\,000 per delegate for both members and non-members. \nCPD UNITS \nMembers of ICPAK and reciprocating professional bodies will be awarded 20 CPD Units upon successfully attending all seminar sessions. \nNITA REIMBURSEMENT  \nThe Institute is registered as a trainer with the National Industrial Training Authority (NITA) The Institute’s registration number is DIT/TRN/47.  Participants who are registered levy contributors should apply to NITA for reimbursement of their fees. Please note that this is applicable for Kenyan citizens only. To qualify you should apply to NITA for approval prior to the date of the seminar \nFurther requests can be channeled to us via telephone calls on +254 719 074 100\,  or via email to marketing@icpak.com. \nWe encourage members to regularly visit our website https://www.icpak.com for updates.
URL:https://www.icpak.com/event/the-ifrs-master-class-2026-mandatory-training/
LOCATION:Radisson Blu Hotel\, Radisson Blu Hotel\, Nairobi\, Kenya
CATEGORIES:Local Seminars
GEO:-1.3020168;36.8167572
X-APPLE-STRUCTURED-LOCATION;VALUE=URI;X-ADDRESS=Radisson Blu Hotel Radisson Blu Hotel Nairobi Kenya;X-APPLE-RADIUS=500;X-TITLE=Radisson Blu Hotel:geo:36.8167572,-1.3020168
END:VEVENT
BEGIN:VEVENT
DTSTART;TZID=Europe/Moscow:20260715T090000
DTEND;TZID=Europe/Moscow:20260717T153000
DTSTAMP:20260423T060800
CREATED:20260103T212839Z
LAST-MODIFIED:20260103T221757Z
UID:10003310-1784106000-1784302200@www.icpak.com
SUMMARY:INSURANCE AND BANKING SECTOR CONFERENCE (physical option)
DESCRIPTION:INSTITUTE OF CERTIFIED PUBLIC ACCOUNTANTS OF KENYA\n(Established under Accountants Act\, Laws of Kenya) \nINSURANCE & BANKING SECTOR CONFERENCE\nTheme:\nDate: 15th -17 July 2026\nTime: 09.00am-03.30pm\nVenue: Enashipai Resort & Spa\, Naivasha \nOVERVIEW \nTARGET AUDIENCE: \nBanking professionals\, Insurance professionals\, Chief Internal & Risk Managers\, CEOs\, Senior Management\, Aspiring bankers and insurance professionals\, Members of Board of Directors of corporations\, Business Owners and Entrepreneurs\, \nFINANCIAL COMMITMENT: \n\n\n\nCategory\nCharges Physical \nVirtual \n\n\nAssociate Members\nKes 40\,000 per Delegate\nKes. 15\,000\n\n\nFull Members\nKes. 45\,000 per Delegate\nKes. 15\,000\n\n\nNon-Member\nKes. 50\,000 per Delegate\nKes. 15\,000\n\n\n\nCONTINUOUS PROFESSIONAL DEVELOPMENT UNITS: \nMembers of ICPAK and other reciprocating professional bodies will earn 20 CPD points upon successfully attending the seminar. \nONLINE BOOKING: \nWe call on all participants to note that booking is available only online at www.icpak.com/events and it will close two hours before the training session.  Delegates are reminded to note that online booking for training sessions is MANDATORY.   This is available either online at www.icpak.com/events \, you can also reach us through marketing@icpak.com \nNATIONAL INDUSTRIAL TRAINING AUTHORITY (NITA) REIMBURSEMENT: \nThe Institute is registered as a trainer with the National Industrial Training Authority. The Institute’s registration number is DIT/TRN/47. Participants who are registered levy contributors should apply to NITA for reimbursement of their fees. Please note that this is applicable for Kenyan citizens only and subject to NITA regulations. Remember that to qualify you should apply to NITA for approval prior to the date of the conference. Further details can be obtained from their website (www.nita.go.ke) \nFurther requests can be channeled to us via telephone calls on +254 719 074 100\,  or via email to marketing@icpak.com. \nWe encourage members to regularly visit our website https://www.icpak.com for updates.
URL:https://www.icpak.com/event/insurance-and-banking-sector-conference-physical-option/
LOCATION:Enashipai Resort & Spa\, Naivasha\, 00100\, Kenya
CATEGORIES:Local Seminars
END:VEVENT
BEGIN:VEVENT
DTSTART;TZID=Europe/Moscow:20260715T090000
DTEND;TZID=Europe/Moscow:20260717T153000
DTSTAMP:20260423T060800
CREATED:20260103T213538Z
LAST-MODIFIED:20260103T214951Z
UID:10003311-1784106000-1784302200@www.icpak.com
SUMMARY:INSURANCE AND BANKING SECTOR CONFERENCE (virtual option)
DESCRIPTION:INSTITUTE OF CERTIFIED PUBLIC ACCOUNTANTS OF KENYA\n(Established under Accountants Act\, Laws of Kenya) \nINSURANCE & BANKING SECTOR CONFERENCE\nTheme:\nDate: 15th -17 July 2026\nTime: 09.00am-03.30pm\nVenue: Virtual Delivery \nOVERVIEW \nTARGET AUDIENCE: \nBanking professionals\, Insurance professionals\, Chief Internal & Risk Managers\, CEOs\, Senior Management\, Aspiring bankers and insurance professionals\, Members of Board of Directors of corporations\, Business Owners and Entrepreneurs\, \nFINANCIAL COMMITMENT: \n\n\n\nCategory\nCharges Physical \nVirtual \n\n\nAssociate Members\nKes 40\,000 per Delegate\nKes. 15\,000\n\n\nFull Members\nKes. 45\,000 per Delegate\nKes. 15\,000\n\n\nNon-Member\nKes. 50\,000 per Delegate\nKes. 15\,000\n\n\n\nCONTINUOUS PROFESSIONAL DEVELOPMENT UNITS: \nMembers of ICPAK and other reciprocating professional bodies will earn 20 CPD points upon successfully attending the seminar. \nONLINE BOOKING: \nWe call on all participants to note that booking is available only online at www.icpak.com/events and it will close two hours before the training session.  Delegates are reminded to note that online booking for training sessions is MANDATORY.   This is available either online at www.icpak.com/events \, you can also reach us through marketing@icpak.com \nNATIONAL INDUSTRIAL TRAINING AUTHORITY (NITA) REIMBURSEMENT: \nThe Institute is registered as a trainer with the National Industrial Training Authority. The Institute’s registration number is DIT/TRN/47. Participants who are registered levy contributors should apply to NITA for reimbursement of their fees. Please note that this is applicable for Kenyan citizens only and subject to NITA regulations. Remember that to qualify you should apply to NITA for approval prior to the date of the conference. Further details can be obtained from their website (www.nita.go.ke) \nFurther requests can be channeled to us via telephone calls on +254 719 074 100\,  or via email to marketing@icpak.com. \nWe encourage members to regularly visit our website https://www.icpak.com for updates.
URL:https://www.icpak.com/event/insurance-and-banking-sector-conference-virtual-option/
LOCATION:Virtual Delivery
CATEGORIES:Local Seminars,Virtual Symposiums
END:VEVENT
BEGIN:VEVENT
DTSTART;TZID=Europe/Moscow:20260716T090000
DTEND;TZID=Europe/Moscow:20260717T153000
DTSTAMP:20260423T060800
CREATED:20260105T072821Z
LAST-MODIFIED:20260105T073509Z
UID:10003317-1784192400-1784302200@www.icpak.com
SUMMARY:Sustainability Assurance Workshop
DESCRIPTION:INSTITUTE OF CERTIFIED PUBLIC ACCOUNTANTS OF KENYA\n(Established under the Accountants Act\, Laws of Kenya) \nSustainability Assurance Workshop\nTheme:\nDate: 16th-17th July 2026\nTime: 9.00am-3.30pm\nVenue: ICPAK Auditorium\, CPA Centre \nOverview \nTarget Audience: \nThis training will be useful to all professional Accountants and professionals from all relevant cross-cutting disciplines since sustainability reporting and the IFRS Sustainability Disclosure Standards are professional agnostic. \nContinuous Professional Development Units (CPD Units): \nMembers of ICPAK and reciprocating professional bodies will be awarded 10 CPD Units upon successfully attending the session. \nCost: \nCharges for the training will be Kes 18\,500/= which will cover workshop fees\, materials\, and e-certificates of attendance. \nOnline Booking: \nWe call on Seminar participants to note that booking for is available only online at www.icpak.com/events and will close two hours before the training session.  Delegates are reminded to note that online booking for training sessions is mandatory.   This is available either online at www.icpak.com/events  or on the ICPAK Live – A smart phone-based application that is available from google store. \nNational Industrial Training Authority (NITA) Reimbursement: \nThe Institute is registered as a trainer with National Industrial Training Authority. The Institute’s registration number is DIT/TRN/47. Participants who are registered levy contributors should apply to NITA for reimbursement of their fees. Please note that this is applicable for Kenyan citizens only and subject to NITA regulations. Remember that to qualify you should apply to NITA for approval prior to the date of the conference. Further details can be obtained from their website (www.nita.go.ke). \nFurther requests can be channeled to us via telephone calls on +254 719 074 100\,  or via email  to marketing@icpak.com. \nWe encourage members to regularly visit our website https://www.icpak.com for updates.
URL:https://www.icpak.com/event/sustainability-assurance-workshop/
LOCATION:ICPAK Auditorium\, CPA Centre\, Nairobi
CATEGORIES:Local Seminars
END:VEVENT
END:VCALENDAR