BEGIN:VCALENDAR
VERSION:2.0
PRODID:-//ICPAK - ECPv6.5.0//NONSGML v1.0//EN
CALSCALE:GREGORIAN
METHOD:PUBLISH
X-ORIGINAL-URL:https://www.icpak.com
X-WR-CALDESC:Events for ICPAK
REFRESH-INTERVAL;VALUE=DURATION:PT1H
X-Robots-Tag:noindex
X-PUBLISHED-TTL:PT1H
BEGIN:VTIMEZONE
TZID:Europe/Moscow
BEGIN:STANDARD
TZOFFSETFROM:+0300
TZOFFSETTO:+0300
TZNAME:MSK
DTSTART:20260101T000000
END:STANDARD
END:VTIMEZONE
BEGIN:VEVENT
DTSTART;TZID=Europe/Moscow:20260803T090000
DTEND;TZID=Europe/Moscow:20260807T153000
DTSTAMP:20260425T132702
CREATED:20260105T084431Z
LAST-MODIFIED:20260105T093455Z
UID:10003318-1785747600-1786116600@www.icpak.com
SUMMARY:THE PUBLIC SECTOR FINANCIAL REPORTING SEMINAR-with National Treasury and PSASB
DESCRIPTION:INSTITUTE OF CERTIFIED PUBLIC ACCOUNTANTS OF KENYA\n(Established under Accountants Act\, Laws of Kenya) \nTHE PUBLIC SECTOR FINANCIAL REPORTING SEMINAR (with National Treasury & PSASB)\nTheme:\nDate: 3rd-7th August 2026 \nTime: 09.00am-03.30pm\nVenue: Pride Inn Paradise Resort\, Mombasa \nOVERVIEW \nTARGET AUDIENCE: \nThis training will be useful to professional Accountants and professionals from the Public Sector.  \nFINANCIAL COMMITMENT: \n\n\n\nCategory\nCharges Physical \n\n\nAssociate Members\nKes 54\,000 per Delegate\n\n\nFull Members\nKes. 59\,000 per Delegate\n\n\nNon-Member\nKes. 64\,000 per Delegate\n\n\nAccommodation\nDelegates are advised to make own travel and accommodation arrangements\n\n\n\n**Charges will cater for daytime meals\, conference giveaways\, learning materials\, and certificates of attendance.  \nCONTINUOUS PROFESSIONAL DEVELOPMENT UNITS: \nMembers of ICPAK and other reciprocating professional bodies will earn 20 CPD points upon successfully attending the event. \nONLINE BOOKING: \nWe call on all participants to note that booking is available only online at www.icpak.com/events and will close two hours before the training session.  Delegates are reminded to note that online booking for training sessions is MANDATORY.   This is available either online at www.icpak.com/events \, you can also reach us through marketing@icpak.com \nNATIONAL INDUSTRIAL TRAINING AUTHORITY (NITA) REIMBURSEMENT: \nThe Institute is registered as a trainer with National Industrial Training Authority. The Institute’s registration number is DIT/TRN/47. Participants who are registered levy contributors should apply to NITA for reimbursement of their fees. Please note that this is applicable for Kenyan citizens only and subject to NITA regulations. Remember that to qualify you should apply to NITA for approval prior to the date of the conference. Further details can be obtained from their website (www.nita.go.ke) \nFurther requests can be channeled to us via telephone calls on +254 719 074 100\,  or via email to marketing@icpak.com. \nWe encourage members to regularly visit our website https://www.icpak.com for updates.
URL:https://www.icpak.com/event/the-public-sector-financial-reporting-seminar-with-national-treasury-and-psasb/
LOCATION:Pride Inn Paradise Beach Hotel\,\, Mombasa\, Kenya
CATEGORIES:Local Seminars
GEO:-4.0434771;39.6682065
END:VEVENT
BEGIN:VEVENT
DTSTART;TZID=Europe/Moscow:20260806T090000
DTEND;TZID=Europe/Moscow:20260807T153000
DTSTAMP:20260425T132702
CREATED:20260106T211539Z
LAST-MODIFIED:20260107T124842Z
UID:10003326-1786006800-1786116600@www.icpak.com
SUMMARY:Excel Modelling practical course
DESCRIPTION:INSTITUTE OF CERTIFIED PUBLIC ACCOUNTANTS OF KENYA\n(Established under Accountants Act\, Laws of Kenya) \nExcel Modelling Practical Course\nTheme:\nDate: 6th -7th August 2026\nTime: 9: 00am-03.30pm\nVenue: ICPAK Auditorium CPA Centre \nOverview \nTarget Audience \nAccountants\, Data Analysts\, Business Analysts\, Data Scientists\, or related roles Marketing Professionals\, Project Managers\, Human Resources Professionals\, academia\, among others.  \nCPD Units:  \nMembers who attend the course training in full will earn 10 Structured CPD Units. \nFinancial Commitment:\nThe Webinar charges are Kshs. 18\,500. Charges will cater for stationery\, daytime meals\, learning materials\, and e-certificates of attendance. \nNational Industrial Training Authority (NITA) Reimbursement \nThe Institute is registered as a trainer with National Industrial Training Authority (formerly Department of Industrial Training -DIT). The Institute’s registration number is DIT/TRN/47. Participants who are registered levy contributors should apply to NITA for reimbursement of their fees. Please note that this is applicable for Kenyan citizens only and subject to NITA regulations. Remember that to qualify you should apply to NITA for approval prior to the date of the conference. Further details can be obtained from their website (www.nita.go.ke ). \nFor more information or enquiries please call 0714 074100 or email to marketing@icpak.com.
URL:https://www.icpak.com/event/excel-modelling-practical-course/
LOCATION:ICPAK Auditorium\, CPA Centre\, Nairobi
CATEGORIES:Local Seminars
END:VEVENT
END:VCALENDAR