BEGIN:VCALENDAR
VERSION:2.0
PRODID:-//ICPAK - ECPv6.5.0//NONSGML v1.0//EN
CALSCALE:GREGORIAN
METHOD:PUBLISH
X-ORIGINAL-URL:https://www.icpak.com
X-WR-CALDESC:Events for ICPAK
REFRESH-INTERVAL;VALUE=DURATION:PT1H
X-Robots-Tag:noindex
X-PUBLISHED-TTL:PT1H
BEGIN:VTIMEZONE
TZID:Europe/Moscow
BEGIN:STANDARD
TZOFFSETFROM:+0300
TZOFFSETTO:+0300
TZNAME:MSK
DTSTART:20260101T000000
END:STANDARD
END:VTIMEZONE
BEGIN:VEVENT
DTSTART;TZID=Europe/Moscow:20260819T090000
DTEND;TZID=Europe/Moscow:20260821T153000
DTSTAMP:20260425T132653
CREATED:20260106T201638Z
LAST-MODIFIED:20260106T203334Z
UID:10003323-1787130000-1787326200@www.icpak.com
SUMMARY:INTERNATIONAL NON-PROFIT ACCOUNTING STANDARDS CONFERENCE (INPAS) with PBORA (physical option)
DESCRIPTION:THE INSTITUTE OF CERTIFIED PUBLIC ACCOUNTANTS OF KENYA\n(Established under the Accountants Act\, Laws of Kenya) \nINTERNATIONAL NON-PROFIT ACCOUNTING STANDARDS CONFERENCE (INPAS) with PBORA\nTheme:\nDate: 19th-21st August 2026 \nTime: 9:00 am to 03.30pm \nVenue: Safari Park Hotel & Casino\, Thika Road \nOVERVIEW \nTARGET AUDIENCE \nThis conference  will be useful to all professional Accountants with specific focus on NGOs. \n CONTINUOUS PROFESSIONAL DEVELOPMENT UNITS (CPD UNITS): \nMembers of ICPAK and reciprocating professional bodies will be awarded 20 Structured CPD Units upon successful completion of the conference. \nFINANCIAL COMMITMENT: \n\n\n\nCategory\nCharges Physical \nVirtual \n\n\nAssociate Members\nKes 40\,000 per Delegate\nKes. 15\,000\n\n\nFull Members\nKes. 45\,000 per Delegate\nKes. 15\,000\n\n\nNon-Member\nKes. 50\,000 per Delegate\nKes. 15\,000\n\n\n\nCharges will cater stationery\, daytime meals\, learning and giveaway materials\, and e-certificates of attendance. \nONLINE BOOKING \nRegistration: Delegates are reminded to note that online booking for the workshop is mandatory on https://www.icpak.com/event-registration/Online Booking \nWe call on interested participants to note that booking for the event is available online at www.icpak.com  and will close two hours before the training session. \nNATIONAL INDUSTRIAL TRAINING AUTHORITY (NITA) REIMBURSEMENT \nThe Institute is registered as a trainer with National Industrial Training Authority. The Institute’s registration number is DIT/TRN/47. Participants who are registered levy contributors should apply to NITA for reimbursement of their fees. Please note that this is applicable for Kenyan citizens only and subject to NITA regulations. Remember that to qualify you should apply to NITA for approval prior to the date of the conference. Further details can be obtained from their website (www.nita.go.ke) \nFurther requests can be channeled to us via telephone calls on +254 719 074 000\,  or via email to marketing@icpak.com
URL:https://www.icpak.com/event/international-non-profit-accounting-standards-conference-inpas-with-pbora-physical-option/
LOCATION:Safari Park Hotel & Casino\, Thika Road\, Nairobi
CATEGORIES:Local Seminars
GEO:-1.225285;36.883555
END:VEVENT
BEGIN:VEVENT
DTSTART;TZID=Europe/Moscow:20260819T090000
DTEND;TZID=Europe/Moscow:20260821T153000
DTSTAMP:20260425T132653
CREATED:20260106T203157Z
LAST-MODIFIED:20260106T203526Z
UID:10003324-1787130000-1787326200@www.icpak.com
SUMMARY:INTERNATIONAL NON-PROFIT ACCOUNTING STANDARDS CONFERENCE (INPAS) with PBORA (virtual option)
DESCRIPTION:THE INSTITUTE OF CERTIFIED PUBLIC ACCOUNTANTS OF KENYA\n(Established under the Accountants Act\, Laws of Kenya) \nINTERNATIONAL NON-PROFIT ACCOUNTING STANDARDS CONFERENCE (INPAS) with PBORA\nTheme:\nDate: 19th-21st August 2026 \nTime: 9:00 am to 03.30pm \nDelivery Mode: Virtual  \nOVERVIEW \nTARGET AUDIENCE \nThis conference  will be useful to all professional Accountants with specific focus on NGOs. \n CONTINUOUS PROFESSIONAL DEVELOPMENT UNITS (CPD UNITS): \nMembers of ICPAK and reciprocating professional bodies will be awarded 20 Structured CPD Units upon successful completion of the conference. \nFINANCIAL COMMITMENT: \n\n\n\nCategory\nCharges Physical \nVirtual \n\n\nAssociate Members\nKes 40\,000 per Delegate\nKes. 15\,000\n\n\nFull Members\nKes. 45\,000 per Delegate\nKes. 15\,000\n\n\nNon-Member\nKes. 50\,000 per Delegate\nKes. 15\,000\n\n\n\nCharges will cater stationery\, daytime meals\, learning and giveaway materials\, and e-certificates of attendance. \nONLINE BOOKING \nRegistration: Delegates are reminded to note that online booking for the workshop is mandatory on https://www.icpak.com/event-registration/Online Booking \nWe call on interested participants to note that booking for the event is available online at www.icpak.com  and will close two hours before the training session. \nNATIONAL INDUSTRIAL TRAINING AUTHORITY (NITA) REIMBURSEMENT \nThe Institute is registered as a trainer with National Industrial Training Authority. The Institute’s registration number is DIT/TRN/47. Participants who are registered levy contributors should apply to NITA for reimbursement of their fees. Please note that this is applicable for Kenyan citizens only and subject to NITA regulations. Remember that to qualify you should apply to NITA for approval prior to the date of the conference. Further details can be obtained from their website (www.nita.go.ke) \nFurther requests can be channeled to us via telephone calls on +254 719 074 000\,  or via email to marketing@icpak.com
URL:https://www.icpak.com/event/international-non-profit-accounting-standards-conference-inpas-with-pbora-virtual-option/
LOCATION:Virtual Delivery
CATEGORIES:Local Seminars,Virtual Symposiums
END:VEVENT
BEGIN:VEVENT
DTSTART;TZID=Europe/Moscow:20260820T090000
DTEND;TZID=Europe/Moscow:20260821T153000
DTSTAMP:20260425T132653
CREATED:20260107T125656Z
LAST-MODIFIED:20260107T125841Z
UID:10003328-1787216400-1787326200@www.icpak.com
SUMMARY:Implementation of BI Tools Practical Course 2026
DESCRIPTION:INSTITUTE OF CERTIFIED PUBLIC ACCOUNTANTS OF KENYA\n(Established under Accountants Act\, Laws of Kenya) \nImplementation of BI Tools Practical Course 2026\nTheme:\nDate: 20th -21st August 2026\nTime: 9: 00am-03.30pm\nVenue: ICPAK Auditorium CPA Centre \nOverview \nTarget Audience \nAll professionals from different spheres. \nCPD Units:  \nMembers who attend the course training in full will earn 10 Structured CPD Units. \nFinancial Commitment:\nThe Webinar charges are Kshs. 18\,500. Charges will cater for stationery\, daytime meals\, learning materials\, and e-certificates of attendance. \nNational Industrial Training Authority (NITA) Reimbursement \nThe Institute is registered as a trainer with National Industrial Training Authority (formerly Department of Industrial Training -DIT). The Institute’s registration number is DIT/TRN/47. Participants who are registered levy contributors should apply to NITA for reimbursement of their fees. Please note that this is applicable for Kenyan citizens only and subject to NITA regulations. Remember that to qualify you should apply to NITA for approval prior to the date of the conference. Further details can be obtained from their website (www.nita.go.ke ). \nFor more information or enquiries please call 0714 074100 or email to marketing@icpak.com.
URL:https://www.icpak.com/event/implementation-of-bi-tools-practical-course-2026/
LOCATION:ICPAK Auditorium\, CPA Centre\, Nairobi
CATEGORIES:Local Seminars
END:VEVENT
END:VCALENDAR