BEGIN:VCALENDAR
VERSION:2.0
PRODID:-//ICPAK - ECPv6.5.0//NONSGML v1.0//EN
CALSCALE:GREGORIAN
METHOD:PUBLISH
X-ORIGINAL-URL:https://www.icpak.com
X-WR-CALDESC:Events for ICPAK
REFRESH-INTERVAL;VALUE=DURATION:PT1H
X-Robots-Tag:noindex
X-PUBLISHED-TTL:PT1H
BEGIN:VTIMEZONE
TZID:Europe/Moscow
BEGIN:STANDARD
TZOFFSETFROM:+0300
TZOFFSETTO:+0300
TZNAME:MSK
DTSTART:20260101T000000
END:STANDARD
END:VTIMEZONE
BEGIN:VEVENT
DTSTART;TZID=Europe/Moscow:20260824T090000
DTEND;TZID=Europe/Moscow:20260828T153000
DTSTAMP:20260425T132653
CREATED:20260106T204831Z
LAST-MODIFIED:20260106T205833Z
UID:10003325-1787562000-1787931000@www.icpak.com
SUMMARY:THE IPSAS MASTERCLASS 2026 (Mandatory Training)
DESCRIPTION:INSTITUTE OF CERTIFIED PUBLIC ACCOUNTANTS OF KENYA\n(Established under Accountants Act\, Laws of Kenya) \nTHE IPSAS MASTERCLASS 2026 (Mandatory Training)\nTheme:\nDate: 24th – 28th August 2026\nVenue: Enashipai Resort & Spa\, Naivasha\n(This is one of the mandatory trainings for Practicing Certificate consideration) \nOVERVIEW \nTARGET AUDIENCE: \nThis training will be useful to professional Accountants and professionals from the Public Sector.  \n YOUR INVESTMENT: \nThis event shall be provided at a cost of KSh.95\,000. \nCONTINUOUS PROFESSIONAL DEVELOPMENT UNITS: \nMembers of ICPAK and other reciprocating professional bodies will earn 20 CPD points upon successfully attending the event. \nONLINE BOOKING: \nWe call on all participants to note that booking is available only online at www.icpak.com/events and will close two hours before the training session.  Delegates are reminded to note that online booking for training sessions is MANDATORY.   This is available either online at www.icpak.com/events \, you can also reach us through marketing@icpak.com \nNATIONAL INDUSTRIAL TRAINING AUTHORITY (NITA) REIMBURSEMENT: \nThe Institute is registered as a trainer with National Industrial Training Authority. The Institute’s registration number is DIT/TRN/47. Participants who are registered levy contributors should apply to NITA for reimbursement of their fees. Please note that this is applicable for Kenyan citizens only and subject to NITA regulations. Remember that to qualify you should apply to NITA for approval prior to the date of the conference. Further details can be obtained from their website (www.nita.go.ke)
URL:https://www.icpak.com/event/the-ipsas-masterclass-2026-mandatory-training/
LOCATION:Enashipai Resort & Spa\, Naivasha\, 00100\, Kenya
CATEGORIES:Local Seminars,Mandatory Trainings
END:VEVENT
END:VCALENDAR