BEGIN:VCALENDAR
VERSION:2.0
PRODID:-//ICPAK - ECPv6.5.0//NONSGML v1.0//EN
CALSCALE:GREGORIAN
METHOD:PUBLISH
X-ORIGINAL-URL:https://www.icpak.com
X-WR-CALDESC:Events for ICPAK
REFRESH-INTERVAL;VALUE=DURATION:PT1H
X-Robots-Tag:noindex
X-PUBLISHED-TTL:PT1H
BEGIN:VTIMEZONE
TZID:Europe/Moscow
BEGIN:STANDARD
TZOFFSETFROM:+0300
TZOFFSETTO:+0300
TZNAME:MSK
DTSTART:20260101T000000
END:STANDARD
END:VTIMEZONE
BEGIN:VEVENT
DTSTART;TZID=Europe/Moscow:20260903T090000
DTEND;TZID=Europe/Moscow:20260904T153000
DTSTAMP:20260425T132839
CREATED:20260107T181512Z
LAST-MODIFIED:20260107T181741Z
UID:10003338-1788426000-1788535800@www.icpak.com
SUMMARY:Transition to IPSAS Accrual course
DESCRIPTION:INSTITUTE OF CERTIFIED PUBLIC ACCOUNTANTS OF KENYA\n(Established under the Accountants Act\, Laws of Kenya) \nTransition to IPSAS Accrual course\nDate: 3rd -4th  September 2026\nTime: 9:00am – 4:00pm\nVenue: CPA Centre \nOverview \nTarget Audience \n The course to all professionals in all spheres. \n Continuous Professional Development Units (CPD UNITS): \nMembers of ICPAK and reciprocating professional bodies will be awarded 10 Structured CPD Units upon successfully completion of the course. \nFinancial Commitment \nThe webinar charges are Kshs. 18\,500. Charges will cater for online video access fees\, learning materials\, and e-certificates of attendance. \nOnline Booking \nRegistration: Delegates are reminded to note that online booking for the workshop is mandatory on https://www.icpak.com/event-registration/Online Booking \nWe call on interested participants to note that booking for the event is available online at www.icpak.com  and will close two hours before the training session. \nNational Industrial Training Authority (NITA) Reimbursement \nThe Institute is registered as a trainer with National Industrial Training Authority. The Institute’s registration number is DIT/TRN/47. Participants who are registered levy contributors should apply to NITA for reimbursement of their fees. Please note that this is applicable for Kenyan citizens only and subject to NITA regulations. Remember that to qualify you should apply to NITA for approval prior to the date of the conference. Further details can be obtained from their website (www.nita.go.ke) \nFurther requests can be channeled to us via telephone calls on +254 719 074 000\,  or via email to marketing@icpak.com
URL:https://www.icpak.com/event/transition-to-ipsas-accrual-course-2/
LOCATION:ICPAK Auditorium\, CPA Centre\, Nairobi
CATEGORIES:Local Seminars
END:VEVENT
END:VCALENDAR