BEGIN:VCALENDAR
VERSION:2.0
PRODID:-//ICPAK - ECPv6.5.0//NONSGML v1.0//EN
CALSCALE:GREGORIAN
METHOD:PUBLISH
X-ORIGINAL-URL:https://www.icpak.com
X-WR-CALDESC:Events for ICPAK
REFRESH-INTERVAL;VALUE=DURATION:PT1H
X-Robots-Tag:noindex
X-PUBLISHED-TTL:PT1H
BEGIN:VTIMEZONE
TZID:Europe/Moscow
BEGIN:STANDARD
TZOFFSETFROM:+0300
TZOFFSETTO:+0300
TZNAME:MSK
DTSTART:20260101T000000
END:STANDARD
END:VTIMEZONE
BEGIN:VEVENT
DTSTART;TZID=Europe/Moscow:20260914T090000
DTEND;TZID=Europe/Moscow:20260918T153000
DTSTAMP:20260425T145908
CREATED:20260108T180924Z
LAST-MODIFIED:20260108T183631Z
UID:10003344-1789376400-1789745400@www.icpak.com
SUMMARY:THE 14TH ANNUAL TAX CONVENTION (MANDATORY TRAINING)
DESCRIPTION:INSTITUTE OF CERTIFIED PUBLIC ACCOUNTANTS OF KENYA\n(Established under the Accountants Act\, Laws of Kenya) \nTHE 14TH ANNUAL TAX CONVENTION (MANDATORY TRAINING)\nTheme: \nDATE: 14TH – 18TH SEPTEMBER 2026\nVENUE: SAROVA WHITESANDS BEACH RESORT & SPA MOMBASA\nTIME: 09.00AM – 03.30PM\n(This is one of the mandatory trainings for practicing certificate consideration) \nOVERVIEW \nTARGET AUDIENCE \nThis training is one of the mandatory trainings for Practicing Certificate consideration. It is also open to all Tax Professionals\, Audit Practitioners\, Senior Management of Organizations\, CEOs and Boards and government officials/experts who deal with international tax or transfer pricing in Africa and wish to gain a deeper technical understanding of relevant tax matters. \nAll members who would wish to practice in the future are also encouraged to enroll on the course as it provides practical skills required for effective performance of their roles in taxation and tax advisory services. \nCONTINUOUS PROFESSIONAL DEVELOPMENT UNITS: \nMembers of ICPAK and other reciprocating professional bodies will earn 20 CPD points upon successfully attending the event. \n FINANCIAL INVESTMENT: \n\n\n\nDetails\nAmount\n\n\nAssociate Members\nKShs 64\,000 per Delegate\n\n\nFull Members\nKShs. 69\,000 per Delegate\n\n\nNon-Member\nKShs. 74\,000 per Delegate\n\n\nAccommodation**\nDelegates are advised to make own accommodation arrangements\n\n\n\nNote: Seminar charges cater for training fee\, training materials\, certificate and meals during the event. \nONLINE BOOKING: \nWe call on all participants to note that booking is available only online at www.icpak.com/events and will close two hours before the training session.  Delegates are reminded to note that online booking for training sessions is MANDATORY.   This is available either online at www.icpak.com/events \, you can also reach us through marketing@icpak.com \nNATIONAL INDUSTRIAL TRAINING AUTHORITY (NITA) REIMBURSEMENT: \nThe Institute is registered as a trainer with National Industrial Training Authority. The Institute’s registration number is DIT/TRN/47. Participants who are registered levy contributors should apply to NITA for reimbursement of their fees. Please note that this is applicable for Kenyan citizens only and subject to NITA regulations. Remember that to qualify you should apply to NITA for approval prior to the date of the conference. Further details can be obtained from their website (www.nita.go.ke) \nSPONSORSHIP OPPORTUNITIES & ADDITIONAL INFORMATION \nThe Tax Convention attracts over 400 participants drawn from both the public and private sectors presenting a rare chance for exhibitors and sponsors. Those interested in sponsoring this event can reach us through raphael.nguli@icpak.com. Other requests for information can be channeled to us via telephone on +254 0719 074 100/129. \nFurther requests can be channeled to us via telephone calls on\, +254 719 074 100\,  or via email to marketing@icpak.com. \nWe encourage members to regularly visit our website https://www.icpak.com for updates.
URL:https://www.icpak.com/event/the-14th-annual-tax-convention-mandatory-training/
LOCATION:Sarova Whitesands Beach Resort and Spa\, Mombasa\, Kenya
CATEGORIES:Local Seminars,Mandatory Trainings
GEO:-4.0434771;39.6682065
END:VEVENT
END:VCALENDAR