BEGIN:VCALENDAR
VERSION:2.0
PRODID:-//ICPAK - ECPv6.5.0//NONSGML v1.0//EN
CALSCALE:GREGORIAN
METHOD:PUBLISH
X-WR-CALNAME:ICPAK
X-ORIGINAL-URL:https://www.icpak.com
X-WR-CALDESC:Events for ICPAK
REFRESH-INTERVAL;VALUE=DURATION:PT1H
X-Robots-Tag:noindex
X-PUBLISHED-TTL:PT1H
BEGIN:VTIMEZONE
TZID:Europe/Moscow
BEGIN:STANDARD
TZOFFSETFROM:+0300
TZOFFSETTO:+0300
TZNAME:MSK
DTSTART:20260101T000000
END:STANDARD
END:VTIMEZONE
BEGIN:VEVENT
DTSTART;TZID=Europe/Moscow:20260413T090000
DTEND;TZID=Europe/Moscow:20260417T153000
DTSTAMP:20260422T035421
CREATED:20251226T102232Z
LAST-MODIFIED:20251226T105935Z
UID:10003276-1776070800-1776439800@www.icpak.com
SUMMARY:PRACTICAL ETHICS AND COMPLIANCE SEMINAR 2026 Mandatory training
DESCRIPTION:THE INSTITUTE OF CERTIFIED PUBLIC ACCOUNTANTS OF KENYA\n(Established under the Accountant Act\, Laws of Kenya) \nPRACTICAL ETHICS AND COMPLIANCE SEMINAR\nTheme: Enhancing professionalism and personal values for professional accountants\nDate: 13th – 17th April 2026\nTime: 9 am – 4 pm\nVenue: Enashipai\, Naivasha. \nThis is one of the mandatory trainings for Practicing Certificate consideration \nOVERVIEW \nAt its simplest\, ethics is a system of moral principles or rules that say what is and what is not acceptable. Ethics are largely described as the principles that guide a person’s behaviour while undertaking day to day activities. Occasionally\, in certain jurisdictions some ethical values get enacted as laws. Governing laws are structured rules utilized to govern a society whereas ethics are a set of moral values an individual establishes. Ethical behaviours apply to any employee\, team leader or supervisor. They should display a behaviour that is honest and fair in their relationship with their co-workers and clients. A culture of ethical businesses is vital to the success of any business. \nA leader who personifies ethical behaviour will be fair in all situations. In turn\, employees will trust their leadership team and aid in achievement of the organizational goals. Ethical behaviour includes honesty\, integrity\, fairness and a host of other positive traits. Businesses are expected to act in an ethically responsible manner\, carrying out its activities in a legal manner even when the business has nothing to benefit from being ethical. Professional ethics provides a means to solve certain ethical problems related to a particular profession. Professional ethics contain the ideals that govern the conduct of a professional or a group of them. This means that an ethical business will act in a socially responsible way\, doing what is right even if it is not required to do so by legislation or regulation\, and regardless of the impact it might have on profits. Professionals are required to practice reasonable\, responsible and transparent behaviour that consciously avoids harmful actions by embodying high ethical standards. \nProfessional ethics in business is paramount and more so in the accounting profession where the end user of information and services has to place trust in the professionals. Professional accountants are constantly faced with ethical dilemmas such as lack of independence in practice\, conflict of interest\, falsified financial reports\, and facilitating or receiving bribes etc however they are required to carry out their roles in a rational\, accountable and transparent manner by upholding high ethical standards to avoid unethical actions. \nConsequently\, the rise in ethical issues all over the world means that all professionals contribute to at least a percentage and even the most properly regulated professional bodies globally have developed a set of standards that have to be adhered to by the members. This explains the need for professional ethics and their application for members. It is in this context Institute has organized a two-day virtual workshop to explore the ethical considerations which are practically applicable in the workplace and as expected professionally. \nThe International Ethics Standards Board for Accountants (IESBA) develops and promotes the International Code of Ethics for Professional Accountants (including International Independence Standards). The IESBA also supports debate on issues related to accounting ethics and auditor independence. In 2018\, the IESBA issued a revised and restructured Code which came into effect in June 2019. The revised and restructured Code includes many substantive revisions\, including in relation to non-compliance with laws and regulations (NOCLAR). The 2018 version of the Code makes it clear that professional accountant\, in whatever capacity they are engaged\, cannot turn a blind eye to NOCLAR. The provisions in the Code\, including NOCLAR guide ethical behavior and help professional accountants uphold their responsibility to act in the public interest. The IESBA Code also includes a principles-based definition of what constitutes a network. The definition covers the way a group of companies operate and present themselves and is consistent with the Statutory Audit Directive. \nAll accountants are expected to subscribe to this code of ethics. With the growing necessity for patriotic and nationalistic individuals to step up to lead the country in every sector that they are involved in\, it is in this recognition that the Institute has organized for the Practical Ethics and Compliance Seminar to address: \nTOPICS \n\nOverview of the Code of Ethics for Professional Accountants-Practical Application of International Code of Ethics for Professional Accountants\nImportant ethical requirements that professional accountants should keep in mind:\n\n\nResponsibilities\nPublic Interest\nIntegrity\nObjectivity and Independence\nDue Care\nScope and Nature of Services\n\n\nEthical dilemmas for professional accountants in public and private sectors\nProfessional Ethics in Practice – Considerations for the Accountant\, personal values and ethical conduct for the professional accountant\nThe Corruption Challenge in Kenya and Ethical Perspectives-Lessons from the EACC on ethics for professionals and the fight against corruption\nAssessing the true cost of corruption and unethical behavior to the business\nPersonal values and ethical conduct for the professional accountant\nProfessional Misconduct and the Ethical Link – Insights from the ICPAK Disciplinary Committee\nBuilding an Ethical Organization and Capability Among Professionals\nRole of the accountant in sustainable governance\nEthical issues in the workplace/business\nEmerging issues and trends on ethics\, risk\, and reporting\nBroader view of board diversity to include ethnicity and race\nSetting up an effective internal controls’ framework in support of organizational ethics and integrity\nOrganisational Culture and its impact on ethics for professionals: Effective tone at the top in setting the right culture\nEthics and Leadership\n\n\nAccounting Professionals as an ethical role model and guardian of integrity\nIntegrating integrity into business strategy and corporate culture\nMobilizing people to make a positive change in the world and promote public values\nPractical approaches of reducing corporate failures\n\n\nDeveloping resilience- Mental health for professionals\n\nFINANCIAL COMMITMENT: \n\n\n\nCategory\nCharges Physical \n\n\nAssociate Members\nKes 54\,000 per Delegate\n\n\nFull Members\nKes. 59\,000 per Delegate\n\n\nNon-Member\nKes. 64\,000 per Delegate\n\n\nAccommodation\nDelegates are advised to make own travel and accommodation arrangements\n\n\n\n**Charges will cater for daytime meals\, conference giveaways\, learning materials\, and certificates of attendance.  \nCONTINUOUS PROFESSIONAL DEVELOPMENT UNITS \nMembers of ICPAK and other reciprocating professional bodies will earn 20 Structured CPD points upon successfully attending the 2026 Practical Ethics & Compliance Seminar. \nNATIONAL INDUSTRIAL TRAINING AUTHORITY (NITA) REIMBURSEMENT \nThe Institute is registered as a trainer with National Industrial Training Authority. The Institute’s registration number is DIT/TRN/47. Participants who are registered levy contributors should apply to NITA for reimbursement of their fees. Please note that this is applicable for Kenyan citizens only and subject to NITA regulations. Remember that to qualify you should apply to NITA for approval prior to the date of the conference. Further details can be obtained from their website (www.nita.go.ke). \nFurther requests can be channeled to us via telephone calls on\, +254 719 074 100\,  or via email to marketing@icpak.com \nWe encourage members to regularly visit our website https://www.icpak.com for updates.
URL:https://www.icpak.com/event/practical-ethics-and-compliance-seminar-2026-mandatory-training/
LOCATION:Enashipai Resort & Spa\, Naivasha\, 00100\, Kenya
CATEGORIES:Local Seminars,Mandatory Trainings
END:VEVENT
END:VCALENDAR