BEGIN:VCALENDAR
VERSION:2.0
PRODID:-//ICPAK - ECPv6.5.0//NONSGML v1.0//EN
CALSCALE:GREGORIAN
METHOD:PUBLISH
X-WR-CALNAME:ICPAK
X-ORIGINAL-URL:https://www.icpak.com
X-WR-CALDESC:Events for ICPAK
REFRESH-INTERVAL;VALUE=DURATION:PT1H
X-Robots-Tag:noindex
X-PUBLISHED-TTL:PT1H
BEGIN:VTIMEZONE
TZID:Europe/Moscow
BEGIN:STANDARD
TZOFFSETFROM:+0300
TZOFFSETTO:+0300
TZNAME:MSK
DTSTART:20260101T000000
END:STANDARD
END:VTIMEZONE
BEGIN:VEVENT
DTSTART;TZID=Europe/Moscow:20261014T090000
DTEND;TZID=Europe/Moscow:20261015T153000
DTSTAMP:20260422T022438
CREATED:20260108T201825Z
LAST-MODIFIED:20260108T202541Z
UID:10003353-1791968400-1792078200@www.icpak.com
SUMMARY:The IFRS Seminar-Mandatory Training
DESCRIPTION:INSTITUTE OF CERTIFIED PUBLIC ACCOUNTANTS OF KENYA\n(Established under the Accountants Act\, Laws of Kenya) \nThe IFRS Seminar (Mandatory Training)\nDate: 14th – 14th October  2026\nTime: 9.00am-3.30pm\nDelivery Mode: Virtual\n(This is one of the mandatory trainings for Practicing Certificate consideration) \nOverview \nTarget Audience \nThis workshop will be useful to all professional Accountants and those aspiring to join the profession \nContinuous Professional Development Units (CPD Units): \nMembers of ICPAK and reciprocating professional bodies will be awarded 10 CPD Units upon successfully attending the session. \nCost: \nCharges for the training will be Kes 10\,000/= which will cover workshop fees\, materials\, and e-certificates of attendance. \nOnline Booking: \nWe call on Seminar participants to note that booking for is available only online at www.icpak.com/events and will close two hours before the training session.  Delegates are reminded to note that online booking for training sessions is mandatory.   This is available either online at www.icpak.com/events  or on the ICPAK Live – A smart phone-based application that is available from google store. \nNational Industrial Training Authority (NITA) Reimbursement: \nThe Institute is registered as a trainer with National Industrial Training Authority. The Institute’s registration number is DIT/TRN/47. Participants who are registered levy contributors should apply to NITA for reimbursement of their fees. Please note that this is applicable for Kenyan citizens only and subject to NITA regulations. Remember that to qualify you should apply to NITA for approval prior to the date of the conference. Further details can be obtained from their website (www.nita.go.ke). \nFurther requests can be channeled to us via telephone calls on +254 719 074 100\,  or via email  to marketing@icpak.com. \nWe encourage members to regularly visit our website https://www.icpak.com for updates.
URL:https://www.icpak.com/event/the-ifrs-seminar-mandatory-training-3/
LOCATION:Virtual Delivery
CATEGORIES:Local Seminars,Mandatory Trainings
END:VEVENT
BEGIN:VEVENT
DTSTART;TZID=Europe/Moscow:20261029T090000
DTEND;TZID=Europe/Moscow:20261030T153000
DTSTAMP:20260422T022438
CREATED:20260114T181211Z
LAST-MODIFIED:20260116T055110Z
UID:10003400-1793264400-1793374200@www.icpak.com
SUMMARY:IFRS Seminar (Mandatory Training) Central Rift Branch
DESCRIPTION:THE INSTITUTE OF CERTIFIED PUBLIC ACCOUNTANTS OF KENYA\n(Established under the Accountant Act\, Laws of Kenya) \nIFRS Seminar (Mandatory Training) Central Rift Branch\nDate: 29th -30th October  2026\nTime: 09.00am -3.30pm\nVenue: Nakuru\, TBC \n(This is one of the mandatory trainings for Practicing Certificate consideration) \nOverview \nTarget Audience: \nThis workshop will be useful to all professional Accountants and those aspiring to join the profession. \nContinuous Professional Development Units (CPD UNITS):\nMembers of ICPAK and those from reciprocating professional bodies will be awarded 14 Structured CPD Units upon successfully completion of the seminar. \nFinancial Commitment:\nThe workshop charges are Kes. 10\,000. Charges will cater for the seminar  fees\, learning materials\, and e-certificates of attendance. \nOnline Booking:\nRegistration: Delegates are reminded to note that online booking for the seminar is mandatory on Online Booking We call on workshop participants to note that booking is available only online at www.icpak.com and will close one day before the training session. Delegates are reminded to note that online booking for the training is mandatory. \nNational Industrial Training Authority (NITA) Reimbursement:\nThe Institute is registered as a trainer with National Industrial Training Authority. The Institute’s registration number is DIT/TRN/47. Participants who are registered levy contributors should apply to NITA for reimbursement of their fees. Please note that this is applicable for Kenyan citizens only and subject to NITA regulations. Remember that to qualify you should apply to NITA for approval prior to the date of the conference. Further details can be obtained from their website (www.nita.go.ke). \nFurther requests can be channeled to us via telephone calls on\, +254 0723 920829\,  or via email to Henry Ngetich   at henry.ngetich@icpak.com with a copy to memberservices@icpak.com \nWe encourage members to regularly visit our website https://www.icpak.com for updates.
URL:https://www.icpak.com/event/ifrs-seminar-mandatory-training-central-rift-branch/
LOCATION:To be confirmed\, Nakuru
CATEGORIES:Branch Seminars,Mandatory Trainings
END:VEVENT
BEGIN:VEVENT
DTSTART;TZID=Europe/Moscow:20261105T090000
DTEND;TZID=Europe/Moscow:20261106T153000
DTSTAMP:20260422T022438
CREATED:20260114T174819Z
LAST-MODIFIED:20260115T151652Z
UID:10003398-1793869200-1793979000@www.icpak.com
SUMMARY:Forensic\, Fraud and Internal Controls Workshop (Mandatory Training) Eastern Branch
DESCRIPTION:THE INSTITUTE OF CERTIFIED PUBLIC ACCOUNTANTS OF KENYA\n(Established under the Accountant Act\, Laws of Kenya) \nForensic\, Fraud and Internal Controls Workshop (Mandatory Training) – Eastern Branch\nDate: 5th -6th November 2026\nTime: 09.00am-03.30\nVenue: Kajiado\,  TBC \nOverview \nTarget Audience: \nThis seminar will be useful to professionals in Spheres. \nYour Financial Commitment \nCharges for the training will be Kes 10\,000/= which will cover workshop fees\, materials\, and e-certificates of attendance. \n CPD Units \nMembers of ICPAK and reciprocating professional bodies will be awarded 14 CPD Units upon successfully attending all sessions. \n Online Booking: \nWe call on Seminar participants to note that booking for is available only online at www.icpak.com/events and will close two hours before the training session.  Delegates are reminded to note that online booking for training sessions is mandatory.   This is available either online at www.icpak.com/events  or on the ICPAK Live – A smart phone-based application that is available from google store. \n National Industrial Training Authority (NITA) Reimbursement:\nThe Institute is registered as a trainer with National Industrial Training Authority. The Institute’s registration number is DIT/TRN/47. Participants who are registered levy contributors should apply to NITA for reimbursement of their fees. Please note that this is applicable for Kenyan citizens only and subject to NITA regulations. Remember that to qualify you should apply to NITA for approval prior to the date of the conference. Further details can be obtained from their website (www.nita.go.ke) \nFurther requests can be channeled to us via telephone calls on\, +254 0787400550\,  or via email to David Mutiso    at David.Mutiso@icpak.com with a copy to memberservices@icpak.com. \nWe encourage members to regularly visit our website https://www.icpak.com for updates.
URL:https://www.icpak.com/event/forensic-fraud-and-internal-controls-workshop-mandatory-training-eastern-branch/
LOCATION:Kajiado\, To be Confirmed
CATEGORIES:Branch Seminars,Mandatory Trainings
END:VEVENT
BEGIN:VEVENT
DTSTART;TZID=Europe/Moscow:20261125T090000
DTEND;TZID=Europe/Moscow:20261126T153000
DTSTAMP:20260422T022438
CREATED:20260109T100937Z
LAST-MODIFIED:20260109T101857Z
UID:10003363-1795597200-1795707000@www.icpak.com
SUMMARY:Practical Ethics Forum -mandatory training
DESCRIPTION:THE INSTITUTE OF CERTIFIED PUBLIC ACCOUNTANTS OF KENYA\n(Established under the Accountants Act\, Laws of Kenya) \nPractical Ethics Forum  (Mandatory Training)\nTheme:\nDate: 25th -26th November 2026\nTime: 9.00-15.30\nVenue: virtual\n(This is one of the mandatory trainings for Practicing Certificate consideration) \nOverview \nTarget Audience: \nMembers of Boards in public and private corporations\, Chief Finance Officers\, Finance Directors and Managers\, Private and Public Audit Practitioners\, Public Sector Accountants\, Transaction Advisors\, Engagement Partners and Key Audit staff\, Banking\, Financial services sector Accountants\, Internal Auditors\, Tax Practitioners\, Professionals working in Government and private sectors\, Accountants in Academia\, current and potential members of ICPAK\, members of other professional associations. \nContinuous Professional Development Units (CPD Units): \nMembers of ICPAK and reciprocating professional bodies will be awarded 10 CPD Units upon successfully attending the session. \nCost: \nCharges for the training will be Kes 10\,000/= which will cover workshop fees\, materials\, and e-certificates of attendance. \nOnline Booking: \nWe call on Seminar participants to note that booking for is available only online at www.icpak.com/events and will close two hours before the training session.  Delegates are reminded to note that online booking for training sessions is mandatory.   This is available either online at www.icpak.com/events  or on the ICPAK Live – A smart phone-based application that is available from google store. \nNational Industrial Training Authority (NITA) Reimbursement: \nThe Institute is registered as a trainer with National Industrial Training Authority. The Institute’s registration number is DIT/TRN/47. Participants who are registered levy contributors should apply to NITA for reimbursement of their fees. Please note that this is applicable for Kenyan citizens only and subject to NITA regulations. Remember that to qualify you should apply to NITA for approval prior to the date of the conference. Further details can be obtained from their website (www.nita.go.ke) \nFurther requests can be channeled to us via telephone calls on\, +254 719 074 100\,  or via email   at marketing@icpak.com \nWe encourage members to regularly visit our website https://www.icpak.com for updates.
URL:https://www.icpak.com/event/practical-ethics-forum-mandatory-training/
LOCATION:Virtual Delivery
CATEGORIES:Mandatory Trainings,Virtual Symposiums
END:VEVENT
BEGIN:VEVENT
DTSTART;TZID=Europe/Moscow:20261126T090000
DTEND;TZID=Europe/Moscow:20261127T153000
DTSTAMP:20260422T022438
CREATED:20260114T165336Z
LAST-MODIFIED:20260119T132447Z
UID:10003395-1795683600-1795793400@www.icpak.com
SUMMARY:Audit Quality Assurance Workshop (Mandatory Training) - Mt Kenya Branch
DESCRIPTION:THE INSTITUTE OF CERTIFIED PUBLIC ACCOUNTANTS OF KENYA\n(Established under the Accountant Act\, Laws of Kenya) \nAudit Quality Assurance Workshop – Mt Kenya Branch\nTheme:\nDate: 26th-27th November  2026\nVenue: Kiambu\, TBC\nTime: 09.00am-03.30pm \n(This is one of the mandatory trainings for Practicing Certificate consideration) \nOverview \nTarget Audience: \nThis workshop will be useful to all professional Accountants and those aspiring to join the profession. \nContinuous Professional Development Units (CPD UNITS):\nMembers of ICPAK and those from reciprocating professional bodies will be awarded 14 Structured CPD Units upon successfully completion of the seminar. \nFinancial Commitment:\nThe workshop charges are Kes. 10\,000. Charges will cater for the seminar  fees\, learning materials\, and e-certificates of attendance. \nOnline Booking:\nRegistration: Delegates are reminded to note that online booking for the seminar is mandatory on Online Booking We call on workshop participants to note that booking is available only online at www.icpak.com and will close one day before the training session. Delegates are reminded to note that online booking for the training is mandatory. \nNational Industrial Training Authority (NITA) Reimbursement:\nThe Institute is registered as a trainer with National Industrial Training Authority. The Institute’s registration number is DIT/TRN/47. Participants who are registered levy contributors should apply to NITA for reimbursement of their fees. Please note that this is applicable for Kenyan citizens only and subject to NITA regulations. Remember that to qualify you should apply to NITA for approval prior to the date of the conference. Further details can be obtained from their website (www.nita.go.ke). \nFurther requests can be channeled to us via telephone calls on +254 743 207691\,   or via email to  Lisbeth Gakii at  lisbeth.gakii@icpak.com with a copy to memberservices@icpak.com. \nWe encourage members to regularly visit our website https://www.icpak.com for updates.
URL:https://www.icpak.com/event/audit-quality-assurance-workshop-mandatory-training-mt-kenya/
LOCATION:To Be Confirmed\, Kiambu
CATEGORIES:Branch Seminars,Mandatory Trainings
END:VEVENT
BEGIN:VEVENT
DTSTART;TZID=Europe/Moscow:20261210T090000
DTEND;TZID=Europe/Moscow:20261211T153000
DTSTAMP:20260422T022438
CREATED:20260114T180258Z
LAST-MODIFIED:20260115T152715Z
UID:10003399-1796893200-1797003000@www.icpak.com
SUMMARY:Branch Annual Tax Workshop-Mandatory Training (Nyanza Branch)
DESCRIPTION:THE INSTITUTE OF CERTIFIED PUBLIC ACCOUNTANTS OF KENYA\n(Established under the Accountant Act\, Laws of Kenya) \nBranch Annual Tax Workshop  (Nyanza Branch) Mandatory Training\nTheme:\nDate: 10th – 11th December 2026\nTime: 09.00am -3.30pm\nVenue: Kisumu\, To be Confirmed\n(This is one of the mandatory training courses for Practicing Certificate consideration) \nOverview \nTarget Audience: \nThis seminar will be useful to all professional Accountants and those aspiring to join the profession. \nContinuous Professional Development Units (CPD UNITS):\nMembers of ICPAK and those from reciprocating professional bodies will be awarded 14 Structured CPD Units upon successfully completion of the seminar. \nFinancial Commitment:\nThe workshop charges are Kes. 10\,000. Charges will cater for the seminar  fees\, learning materials\, and e-certificates of attendance. \nOnline Booking:\nRegistration: Delegates are reminded to note that online booking for the workshop is mandatory on https://www.icpak.com/event-registration/Online Booking We call on workshop participants to note that booking is available only online at www.icpak.com and will close one day before the training session. Delegates are reminded to note that online booking for the training is mandatory. \nNational Industrial Training Authority (NITA) Reimbursement:\nThe Institute is registered as a trainer with National Industrial Training Authority. The Institute’s registration number is DIT/TRN/47. Participants who are registered levy contributors should apply to NITA for reimbursement of their fees. Please note that this is applicable for Kenyan citizens only and subject to NITA regulations. Remember that to qualify you should apply to NITA for approval prior to the date of the conference. Further details can be obtained from their website (www.nita.go.ke) \nFurther requests can be channeled to us via telephone calls on\, +254 719 074 100\,  or via email to Martin Oriaro Imali   at martin.oriaro@icpak.com with a copy to memberservices@icpak.com \nWe encourage members to regularly visit our website https://www.icpak.com for updates.
URL:https://www.icpak.com/event/branch-annual-tax-workshop-mandatory-training-nyanza-branch/
LOCATION:Kisumu\, TBC
CATEGORIES:Branch Seminars,Mandatory Trainings
GEO:-0.1351879;34.7960027
END:VEVENT
END:VCALENDAR