BEGIN:VCALENDAR
VERSION:2.0
PRODID:-//ICPAK - ECPv6.5.0//NONSGML v1.0//EN
CALSCALE:GREGORIAN
METHOD:PUBLISH
X-WR-CALNAME:ICPAK
X-ORIGINAL-URL:https://www.icpak.com
X-WR-CALDESC:Events for ICPAK
REFRESH-INTERVAL;VALUE=DURATION:PT1H
X-Robots-Tag:noindex
X-PUBLISHED-TTL:PT1H
BEGIN:VTIMEZONE
TZID:Europe/Moscow
BEGIN:STANDARD
TZOFFSETFROM:+0300
TZOFFSETTO:+0300
TZNAME:MSK
DTSTART:20260101T000000
END:STANDARD
END:VTIMEZONE
BEGIN:VEVENT
DTSTART;TZID=Europe/Moscow:20260227T140000
DTEND;TZID=Europe/Moscow:20260227T170000
DTSTAMP:20260422T222307
CREATED:20260129T122554Z
LAST-MODIFIED:20260226T080122Z
UID:10003408-1772200800-1772211600@www.icpak.com
SUMMARY:THE 14TH SOUTH RIFT BRANCH ANNUAL MEMBERS MEETING AND BRANCH ELECTIONS Virtual Attendance
DESCRIPTION:Notice is hereby given that the 14th Annual Members Meeting (AMM) for South Rift – Branch will be held on Friday 13th February 2025 from 2:00pm to 5:00pm in Kericho. Kindly confirm your attendance by booking online under special events category. The event is free and members in attendance shall be awarded 2 CPD Hours. \nThe positions declared vacant are due for nomination and the nomination forms can be downloaded from the link below. Interested members are requested to send dully filled nomination form to branches@icpak.com by close of business Thursday 12th February 2026. \nNote:  \n\nAspirants shall adhere to the Branch Governance Policy as follows:\nSubsection 7.0.3 that aspirants shall be members of ICPAK in good standing\, subscribed to the branch and residing and working in any of the counties within the branch. Only members registered with the branch 30 days to the AMM will be eligible to vie and/or vote for the positions above.\nSubsection 7.0.3.1 that an aspirant in the given elective post shall be proposed by one member and seconded by one other member. Members proposing and seconding must be subscribed to the branch and in good standing.\nSubsection 7.0.3.3 that Validly nominated candidates shall subscribe to the Institute Election Code of ethics.\nVoting shall be done online as per the voters’ register drawn from members in (1) above.\nPlease note the following key dates as appertains the branch elections:\n\n\nSubmission of nomination forms:          12th February 2026\nClearing of candidates:                        16th February 2026\nCampaign period:                                 17th – 24th February 2026 at 11.59PM.\nSending Tokens:                                  23rd February 2026\nVoting/Election Period:                       25th – 27th February 2026 at 12:00 noon\nTallying and Announcement on the AMM on 27th February 2026. \n\n  \nAMM Documents:
URL:https://www.icpak.com/event/the-14th-south-rift-branch-annual-members-meeting-and-branch-elections-virtual-attendance/
LOCATION:Online
CATEGORIES:Special Events
END:VEVENT
BEGIN:VEVENT
DTSTART;TZID=Europe/Moscow:20260227T150000
DTEND;TZID=Europe/Moscow:20260227T170000
DTSTAMP:20260422T222307
CREATED:20260218T114218Z
LAST-MODIFIED:20260219T053332Z
UID:10003412-1772204400-1772211600@www.icpak.com
SUMMARY:Anti Money Laundering (AML) training focusing on Targeted Financial Sanctions (TFS) for Practitioners only
DESCRIPTION:INSTITUTE OF CERTIFIED PUBLIC ACCOUNTANTS OF KENYA\n(Established under the Accountants Act\, Laws of Kenya) \nAnti Money Laundering (AML) training session focusing on Targeted Financial Sanctions (TFS)\nDate: 27 February 2026\,\nTime: 3:00 PM to 5:00 PM\nDelivery Mode: Virtual \nOverview \nA practical overview of accountants’ obligations\, focusing on identifying designated persons\, implementing effective screening\, freezing and reporting requirements\, and maintaining compliance to mitigate sanctions and regulatory risk. \nTarget Audience: \nThis virtual webinar is very useful to Practitioners. \nContinuous Professional Development Units (CPD Units): \nMembers of ICPAK and reciprocating professional bodies will be awarded 2 CPD Units upon successfully attending the session. \nYour Financial Investment: \nCharges for the webinar will be Kes Nil. \nFurther requests can be channeled to us via telephone calls on +254 719 074 100\, or via email to compliance@icpak.com \nWe encourage members to regularly visit our website https://www.icpak.com for updates.
URL:https://www.icpak.com/event/anti-money-laundering-aml-training-focusing-on-targeted-financial-sanctions-tfs-for-practitioners-only/
LOCATION:Virtual Delivery
CATEGORIES:Special Events,Webinars
END:VEVENT
END:VCALENDAR