BEGIN:VCALENDAR
VERSION:2.0
PRODID:-//ICPAK - ECPv6.5.0//NONSGML v1.0//EN
CALSCALE:GREGORIAN
METHOD:PUBLISH
X-WR-CALNAME:ICPAK
X-ORIGINAL-URL:https://www.icpak.com
X-WR-CALDESC:Events for ICPAK
REFRESH-INTERVAL;VALUE=DURATION:PT1H
X-Robots-Tag:noindex
X-PUBLISHED-TTL:PT1H
BEGIN:VTIMEZONE
TZID:Europe/Moscow
BEGIN:STANDARD
TZOFFSETFROM:+0300
TZOFFSETTO:+0300
TZNAME:MSK
DTSTART:20250101T000000
END:STANDARD
END:VTIMEZONE
BEGIN:VEVENT
DTSTART;TZID=Europe/Moscow:20251205T180000
DTEND;TZID=Europe/Moscow:20251205T230000
DTSTAMP:20260422T100901
CREATED:20251006T100110Z
LAST-MODIFIED:20251006T100721Z
UID:10003207-1764957600-1764975600@www.icpak.com
SUMMARY:FiRe AWARD 2025 Ceremony and Gala Dinner (virtual option)
DESCRIPTION:THE INSTITUTE OF CERTIFIED PUBLIC ACCOUNTANTS OF KENYA\n(Established under the Accountant Act\, Laws of Kenya) \nFiRe AWARD 2025 Ceremony & Gala Dinner (Virtual option)\nTheme: “Fostering Compliance to International Standards to Enhance Transparency\, Comparability & Accountability\nDATE: 5th December 2025\nTIME: 6.00pm – 11.00pm\nVENUE: Virtual Delivery \nCost: \nCharges for the events and accompanying links are indicated below; \n\nFiRe Award physical conference cost – KShs. 10\,000\, 7 CPD Points\n\nhttps://www.icpak.com/event/fire-award-2025-conference-physical-option/ \n\nFiRe Award gala dinner cost – KShs. 9\,000\n\nhttps://www.icpak.com/event/fire-award-2025-ceremony-and-gala-dinner-physical-option/ \n\nFiRe Award conference virtual attendance cost – KShs. 4\,500\, 7 CPD Points\n\nhttps://www.icpak.com/event/fire-award-2025-conference-virtual-option/ \n\nFiRe Award dinner virtual attendance cost – KShs. 4\,500\n\nhttps://www.icpak.com/event/fire-award-2025-ceremony-and-gala-dinner-virtual-option/
URL:https://www.icpak.com/event/fire-award-2025-ceremony-and-gala-dinner-virtual-option/
LOCATION:Virtual Delivery
CATEGORIES:Local Seminars,Virtual Symposiums
END:VEVENT
END:VCALENDAR