BEGIN:VCALENDAR
VERSION:2.0
PRODID:-//ICPAK - ECPv6.5.0//NONSGML v1.0//EN
CALSCALE:GREGORIAN
METHOD:PUBLISH
X-WR-CALNAME:ICPAK
X-ORIGINAL-URL:https://www.icpak.com
X-WR-CALDESC:Events for ICPAK
REFRESH-INTERVAL;VALUE=DURATION:PT1H
X-Robots-Tag:noindex
X-PUBLISHED-TTL:PT1H
BEGIN:VTIMEZONE
TZID:Europe/Moscow
BEGIN:STANDARD
TZOFFSETFROM:+0300
TZOFFSETTO:+0300
TZNAME:MSK
DTSTART:20260101T000000
END:STANDARD
END:VTIMEZONE
BEGIN:VEVENT
DTSTART;TZID=Europe/Moscow:20260115T090000
DTEND;TZID=Europe/Moscow:20260116T153000
DTSTAMP:20260422T100806
CREATED:20260102T091124Z
LAST-MODIFIED:20260113T102845Z
UID:10003298-1768467600-1768577400@www.icpak.com
SUMMARY:Reporting on IFRS S1 and S2 Practical Course (virtual option)
DESCRIPTION:INSTITUTE OF CERTIFIED PUBLIC ACCOUNTANTS OF KENYA\n(Established under the Accountants Act\, Laws of Kenya) \nReporting on IFRS S1 and S2 Practical Course\nDate: 15th – 16th January 2026\nTime: 9:00 Am – 4:00 Pm\nVenue: Virtual Delivery \nOverview \nThe Practical Course on Reporting under IFRS S1 and IFRS S2 aims to bridge the gap between regulatory requirements and operational practice through practical guidance in developing high-quality decision-useful sustainability disclosures in line with global best practice. The course epitomizes emerging demands for increased transparency\, consistency\, and comparability in information on sustainability by investors\, regulators\, and other stakeholders. \nThe course will focus on practical interpretation and application of IFRS S1 (General Requirements for Disclosure of Sustainability-related Financial Information) and IFRS S2 (Climate-related Disclosures). Participants will gain in-depth insight into identifying\, assessing\, measuring\, and integrating sustainability and climate-related risks and opportunities into financial reporting processes. Practical case studies\, real-world examples\, implementation tools\, and templates will support participants in confidently applying the standards within their organizations and client engagements. \nThis practical course will also discuss the integration of sustainability reporting into existing financial reporting frameworks and governance structures. There will be guidance on how to align disclosures of sustainability with enterprise risk management\, strategy\, internal controls\, and data governance processes. The programme will further address the role of professional judgment\, documentation standards\, and assurance readiness in enhancing the credibility and reliability of the disclosures related to sustainability. \nBy the end of the course\, participants will be better placed to support their organizations and clients in meeting the emerging regulatory\, investor\, and market expectations on sustainability and climate-related reporting\, while fostering increased transparency\, accountability\, and value creation over the long term. \nThe following topics will be discussed during sessions: \nOverview of IFRS S1 and IFRS S2\n• Objectives\, scope and structure of the standards\n• Key differences and linkages between S1 and S2\n• Global regulatory trends and adoption landscape \nGovernance and Risk Management in Sustainability Reporting\n• Board and management responsibilities\n• Integration with enterprise risk management frameworks\n• Internal control considerations \nPractical Climate Risk and Opportunity Assessment\n• Identification of physical and transition risks\n• Scenario analysis and stress testing\n• Materiality assessment for climate-related matters \nData Collection\, Measurement and Metrics\n• Key performance indicators for sustainability and climate\n• Data quality\, systems and controls\n• Managing estimation uncertainty and assumptions \nDesigning IFRS S1 and S2 Disclosures\n• Structuring sustainability-related financial disclosures\n• Consistency between narrative and financial information\n• Drafting clear\, comparable and decision-useful disclosures \nImplementation Challenges and Practical Solutions\n• Common implementation pitfalls\n• Change management and capacity building\n• Use of practical tools\, templates and checklists \nAssurance and Readiness for External Review\n• Preparing for internal and external assurance\n• Documentation and audit trail requirements\n• Enhancing credibility and stakeholder confidence \n Target Audience \nThe practical course will be useful to finance and accounting professionals\, sustainability and ESG practitioners\, internal and external auditors\, risk management and compliance officers\, corporate reporting and investor relations teams\, and senior management personnel with governance\, strategy\, and performance reporting responsibilities. It is also suitable for related professionals in the public sector\, regulators\, consultants\, and advisors supporting organizations in implementing sustainability and climate-related disclosure requirements. \n Continuous Professional Development Units (CPD UNITS): \nMembers of ICPAK and reciprocating professional bodies will be awarded 10 Structured CPD Units upon successfully completion of the webinar. \nFinancial Commitment \nThe webinar charges are Kshs. 10\,000. Charges will cater for online video access fees\, learning materials\, and e-certificates of attendance. \nOnline Booking \nRegistration: Delegates are reminded to note that online booking for the workshop is mandatory on https://www.icpak.com/event-registration/Online Booking \nWe call on interested participants to note that booking for the event is available online at www.icpak.com  and will close two hours before the training session. \nNational Industrial Training Authority (NITA) Reimbursement \nThe Institute is registered as a trainer with National Industrial Training Authority. The Institute’s registration number is DIT/TRN/47. Participants who are registered levy contributors should apply to NITA for reimbursement of their fees. Please note that this is applicable for Kenyan citizens only and subject to NITA regulations. Remember that to qualify you should apply to NITA for approval prior to the date of the conference. Further details can be obtained from their website (www.nita.go.ke) \nFurther requests can be channeled to us via telephone calls on +254 719 074 000\,  or via email to marketing@icpak.com
URL:https://www.icpak.com/event/reporting-on-ifrs-s1-and-s2-practical-course-virtual-option/
LOCATION:Virtual Delivery
CATEGORIES:Local Seminars,Virtual Symposiums
END:VEVENT
END:VCALENDAR