BEGIN:VCALENDAR
VERSION:2.0
PRODID:-//ICPAK - ECPv6.5.0//NONSGML v1.0//EN
CALSCALE:GREGORIAN
METHOD:PUBLISH
X-WR-CALNAME:ICPAK
X-ORIGINAL-URL:https://www.icpak.com
X-WR-CALDESC:Events for ICPAK
REFRESH-INTERVAL;VALUE=DURATION:PT1H
X-Robots-Tag:noindex
X-PUBLISHED-TTL:PT1H
BEGIN:VTIMEZONE
TZID:Europe/Moscow
BEGIN:STANDARD
TZOFFSETFROM:+0300
TZOFFSETTO:+0300
TZNAME:MSK
DTSTART:20260101T000000
END:STANDARD
END:VTIMEZONE
BEGIN:VEVENT
DTSTART;TZID=Europe/Moscow:20261127T180000
DTEND;TZID=Europe/Moscow:20261127T223000
DTSTAMP:20260422T144942
CREATED:20260109T131735Z
LAST-MODIFIED:20260109T132344Z
UID:10003367-1795802400-1795818600@www.icpak.com
SUMMARY:THE 13TH ICPAK CHAIRMAN’S BALL (virtual option)
DESCRIPTION:THE INSTITUTE OF CERTIFIED PUBLIC ACCOUNTANTS OF KENYA\n(Established under the Accountant Act\, Laws of Kenya) \nTHE 13TH ICPAK CHAIRMAN’S BALL\nVENUE: SAFARI PARK HOTEL & CASINO\, THIKA ROAD\, NAIROBI.\nDATE: 27TH NOVEMBER 2026 \nOVERVIEW \nCHAIRMAN’S BALL TICKETS  \n\n\n\nSingle Ticket – Physical Attendance\nKSks. 6\,500\n\n\nTable for Two (2)\nKShs. 12\,000\n\n\nCorporate Table of Eight (8)\nKShs. 48\,000\n\n\nVirtual Attendance Ticket\nKShs. 2\,000\n\n\n\nCONTINUOUS PROFESSIONAL DEVELOPMENT (CPD) UNITS   \nICPAK members in attendance will be awarded 5 Structured CPD hours. \nEVENT BOOKING \nTo be part of this auspicious celebration and networking opportunity\, please make your booking online. Further requests can be channeled to us via telephone calls on +254 719 074 000\,  or via email to marketing@icpak.com
URL:https://www.icpak.com/event/the-13th-icpak-chairmans-ball-virtual-option/
LOCATION:Virtual Delivery
CATEGORIES:Virtual Symposiums
END:VEVENT
END:VCALENDAR