BEGIN:VCALENDAR
VERSION:2.0
PRODID:-//ICPAK - ECPv6.5.0//NONSGML v1.0//EN
CALSCALE:GREGORIAN
METHOD:PUBLISH
X-WR-CALNAME:ICPAK
X-ORIGINAL-URL:https://www.icpak.com
X-WR-CALDESC:Events for ICPAK
REFRESH-INTERVAL;VALUE=DURATION:PT1H
X-Robots-Tag:noindex
X-PUBLISHED-TTL:PT1H
BEGIN:VTIMEZONE
TZID:Europe/Moscow
BEGIN:STANDARD
TZOFFSETFROM:+0300
TZOFFSETTO:+0300
TZNAME:MSK
DTSTART:20250101T000000
END:STANDARD
END:VTIMEZONE
BEGIN:VEVENT
DTSTART;TZID=Europe/Moscow:20250101T080000
DTEND;TZID=Europe/Moscow:20261231T170000
DTSTAMP:20260421T153906
CREATED:20250128T095651Z
LAST-MODIFIED:20260108T123103Z
UID:10003044-1735718400-1798736400@www.icpak.com
SUMMARY:The self-care toolkit for managers in crisis situations
DESCRIPTION:
URL:https://www.icpak.com/event/the-self-care-toolkit-for-managers-in-crisis-situations/
LOCATION:bafunde.com
CATEGORIES:Certifications & Videos
END:VEVENT
END:VCALENDAR