BEGIN:VCALENDAR
VERSION:2.0
PRODID:-//ICPAK - ECPv6.5.0//NONSGML v1.0//EN
CALSCALE:GREGORIAN
METHOD:PUBLISH
X-WR-CALNAME:ICPAK
X-ORIGINAL-URL:https://www.icpak.com
X-WR-CALDESC:Events for ICPAK
REFRESH-INTERVAL;VALUE=DURATION:PT1H
X-Robots-Tag:noindex
X-PUBLISHED-TTL:PT1H
BEGIN:VTIMEZONE
TZID:Europe/Moscow
BEGIN:STANDARD
TZOFFSETFROM:+0300
TZOFFSETTO:+0300
TZNAME:MSK
DTSTART:20260101T000000
END:STANDARD
END:VTIMEZONE
BEGIN:VEVENT
DTSTART;TZID=Europe/Moscow:20260812T090000
DTEND;TZID=Europe/Moscow:20260814T153000
DTSTAMP:20260423T013410
CREATED:20251226T091731Z
LAST-MODIFIED:20251226T092854Z
UID:10003272-1786525200-1786721400@www.icpak.com
SUMMARY:ANNUAL PRACTITIONERS CONVENTION-Mandatory Training (physical option)
DESCRIPTION:INSTITUTE OF CERTIFIED PUBLIC ACCOUNTANTS OF KENYA\n(Established under Accountants Act\, Laws of Kenya) \nANNUAL PRACTITIONERS’ CONVENTION\nTheme: Enhancing quality and efficiency in audit\, tax and advisory engagements\nDate: 12th – 14th August 2026\nTime: 9:00 am – 3:30 pm\nVenue: Sarova Woodlands\, Nakuru \n(This is one of the mandatory trainings for Practicing Certificate consideration) \nOVERVIEW \nThe accountancy profession has undergone significant developments and experienced a lot of evolution over the past few years.  In recent years\, the global accounting profession has undergone significant transformation due to rapid technological advancements\, evolving regulatory frameworks\, increasing stakeholder expectations\, and the growing emphasis on sustainability and ethics. The audit environment has particularly experienced tremendous developments arising from the effect of new emerging and stringent regulations and standards among other social and economic developments.  This has also happened to the other areas of the profession which has necessitated the change of approach and tact in delivering professional accountancy engagements\, to align with rapid developments in technology\, geopolitical risks and stringent regulations. \nIn this dynamic environment\, audit practitioners\, tax professionals\, management consultants\, and accounting practitioners must remain agile and well-informed to maintain professional competence and deliver value to clients and stakeholders. This makes it imperative for practitioners to continually update their knowledge and skills in key emerging areas such as sustainability reporting and assurance\, artificial intelligence (AI)\, blockchain technology\, and Anti-Money Laundering Policies. \nIn Kenya\, we have witnessed growing pressure on the audit profession to meet the heightened expectations of regulators\, boards\, and the investing public following reported major frauds affecting the public such as KUSCCO and OAG reports on county expenditure. Practitioners consequently must shift towards risk-based auditing and value-driven assurance\, demanding rigorous application of the International Standards on Auditing (ISAs). Furthermore\, practitioners are today expected to strengthen their forensic capabilities\, leveraging data analytics and applying enhanced professional skepticism to detect anomalies and respond to fraud risks early. Practitioners are also faced with challenges revolving around compliance with regulations such as KRA\, SASRA\, RBA and AML. \nAs practitioners face expanding roles and increased public scrutiny\, soft skills such as communication\, leadership\, ethical decision-making\, and client management are no longer optional; they are critical enablers of success. This forum is therefore designed not only to advance technical mastery but also to empower audit professionals to lead with confidence\, integrity\, and agility in today’s complex assurance landscape. \nIt is against this background that the Institute has organized a three-day forum to discuss these critical developments which affect the practitioners in the different categories of practice\, and the accountancy profession at large and seek to address the rising concerns of work quality while ensuring that efficiency in undertaking engagements is maintained.  The Annual Practitioners Convention aims to provide a platform for knowledge sharing\, professional development\, and networking among Practitioners. The convention will focus on equipping practitioners with the latest insights and practical tools to enhance their service delivery in an increasingly complex business environment. The following topics will guide the discussions in the Convention: \nTOPICS \n\nGlobal trends in utilization of technology within the accountancy practice\nFuture Fit Accountants: Roles for the next decade\nState of the accountancy profession in Africa- Trends for accountants in practice within various jurisdictions\nShifting landscape for practicing accountants: Utilization of technology for competitive advantage– AI\, Blockchain\, Audit Software\nOverview of the Unique Document Identification Number (UDIN)- Milestones and Opportunities\nAnti-Money Laundering and the Expanding Role of Auditors:\n\n\nAML Compliance by practitioners.\nAML frameworks and audit procedures for detecting red flags.\nEvaluating compliance with reporting obligations under AML laws.\nAuditor’s responsibilities in relation to reporting suspicious transactions.\n\n\nImplementation of firm and engagement level quality considerations – an in-depth assessment of the ISQM 1 and 2 requirements; ISA 220\nAudit approach and evaluation of audit considerations in line with changing standards- A focus on ISA 315 and ISA 500\nOverview of the taxation landscape and changing laws and the implications to practitioners\nOverview of the developments within the standard setting environment – international financial reporting standards\nOverview of the revised IFRS for SMEs\nAdvantages and approaches of adopting ISA for Less Complex Entities for Small & Medium Practices (SMPs) in Kenya\nGearing up for Sustainability Assurance for Practitioners In Kenya- Key Requirements and Way Forward\nSetting up of a firm and submitting winning bids- Positioning practitioners for success through development of responsive proposals\nKey findings of the Audit Quality Reviews – Major concerns and practical responses to the issues.\nFirm records management best practice guidelines and effective compliance to standards on reporting\nMental health for accounting practitioners during busy seasons\nSuccession planning for SMPs\nOverview of services rendered under the four categories of licenses and the practitioner’s tool kit;\n\n\nOverview of tools and methodologies from IFAC & PAFA \nChallenges and Opportunities for Small and Medium Practices – SMPs\n\nCONTINUOUS PROFESSIONAL DEVELOPMENT UNITS (CPD UNITS): \nMembers of ICPAK and reciprocating professional bodies will be awarded 20 CPD Units upon successfully attending each of the Conference sessions. \nTARGET AUDIENCE: \nPrivate and Public Audit Practitioners\, Public Sector Accountants\, Chief Finance Officers\, Finance Directors and Managers\, Tax Experts\, Transaction Advisors\, Engagement Partners and Key Audit staff\, Banking\, Extractive and SMEs sector accountants\, Internal Auditors\, Tax Practitioners\, Professionals working in County Governments and private sectors\, Academia\, employees of the NPO Sector. \nFINANCIAL COMMITMENT: \n\n\n\nCategory\nCharges Physical \nVirtual \n\n\nAssociate Members\nKes 40\,000 per Delegate\nKes. 15\,000\n\n\nFull Members\nKes. 40\,000 per Delegate\nKes. 15\,000\n\n\nNon-Member\nKes. 40\,000 per Delegate\nKes. 15\,000\n\n\n\n\nCharges will cater for daytime meals\, conference giveaways\, learning materials\, and certificates of attendance. \n\n     2.     Delegates are advised to make own travel and accommodation arrangements \nONLINE BOOKING: \nRegistration: Delegates are reminded to note that online booking for the seminar is mandatory on https://www.icpak.com/event-registration/Online Booking . Delegates are reminded to note that online booking for the training is mandatory. \nNational Industrial Training Authority (NITA) Reimbursement: \nThe Institute is registered as a trainer with National Industrial Training Authority. The Institute’s registration number is DIT/TRN/47. Participants who are registered levy contributors should apply to NITA for reimbursement of their fees. Please note that this is applicable for Kenyan citizens only and subject to NITA regulations. Remember that to qualify you should apply to NITA for approval prior to the date of the conference. Further details can be obtained from their website (www.nita.go.ke). \n  \nFurther requests can be channeled to us via telephone calls on\, +254 719 074 100\,  or via email to marketing@icpak.com \nWe encourage members to regularly visit our website https://www.icpak.com for updates. \n 
URL:https://www.icpak.com/event/annual-practitioners-convention-mandatory-training-physical-option/
LOCATION:Sarova Woodlands Hotel\, Nakuru
CATEGORIES:Local Seminars,Mandatory Trainings
END:VEVENT
BEGIN:VEVENT
DTSTART;TZID=Europe/Moscow:20260921T090000
DTEND;TZID=Europe/Moscow:20260925T153000
DTSTAMP:20260423T013410
CREATED:20260107T182016Z
LAST-MODIFIED:20260108T155040Z
UID:10003339-1789981200-1790350200@www.icpak.com
SUMMARY:ERM MASTER CLASS 2026 MANDATORY TRAINING
DESCRIPTION:THE INSTITUTE OF CERTIFIED PUBLIC ACCOUNTANTS OF KENYA\n(Established under the Accountants Act\, Laws of Kenya) \nERM MASTER CLASS 2026 MANDATORY TRAINING\nTHEME: \nDATE: 21st – 25th SEPTEMBER 2026\nVENUE: SAROVA WOODLANDS HOTEL\, NAKURU\nTIME: 09.00AM-03.30PM\n(This is one of the mandatory trainings for Practicing Certificate consideration) \nOVERVIEW \nTARGET AUDIENCE: \nIt is open to all Risk and Internal Audit Professionals\, Finance Professionals\, Insurance and Banking Professionals\, Board Members\, Audit & Risk Committee Members\, Senior Management of Organizations\, CEOs and any other professionals seeking to obtain deeper knowledge in the area of ERM. \nAll members who would wish to practice in the future are also encouraged to enroll on the course as it provides practical skills required for effective performance of their roles in Risk Management \nYOUR INVESTMENT: \nThis Master Class shall be provided at a cost of Kes.95\,000. \nCONTINUOUS PROFESSIONAL DEVELOPMENT UNITS: \nMembers of ICPAK and other reciprocating professional bodies will earn 20 CPD points upon successfully attending the Master Class. \nONLINE BOOKING: \nWe call on all participants to note that booking is available only online at www.icpak.com/events and will close two hours before the training session.  Delegates are reminded to note that online booking for training sessions is MANDATORY.   This is available either online at www.icpak.com/events  or on the ICPAK Live – A smart phone-based application that is available from google store. \nNATIONAL INDUSTRIAL TRAINING AUTHORITY (NITA) REIMBURSEMENT: \nThe Institute is registered as a trainer with the National Industrial Training Authority. The Institute’s registration number is DIT/TRN/47. Participants who are registered levy contributors should apply to NITA for reimbursement of their fees. Please note that this is applicable for Kenyan citizens only and subject to NITA regulations. Remember that to qualify you should apply to NITA for approval prior to the date of the conference. Further details can be obtained from their website (www.nita.go.ke) \nPARTNERSHIP OPPORTUNITIES \nThe training presents a perfect opportunity for organizations to showcase their products & services to a target group with high purchasing powers\, both on personal and corporate levels. You will also have a unique opportunity for brand positioning and communication that will enjoy optimal visibility. Armed with significant purchasing power and decision-making authority\, the audience are a key target group for businesses. For more information or enquiries please email raphael.nguli@icpak.com. \nFurther requests can be channeled to us via telephone calls on +254 719 074 100\,  or via email  to marketing@icpak.com. \nWe encourage members to regularly visit our website https://www.icpak.com for updates.
URL:https://www.icpak.com/event/erm-master-class-2026-mandatory-training/
LOCATION:Sarova Woodlands Hotel\, Nakuru
CATEGORIES:Local Seminars
END:VEVENT
END:VCALENDAR